BEGIN:VCALENDAR
VERSION:2.0
PRODID:-//ChamberMaster//Event Calendar 2.0//EN
METHOD:PUBLISH
X-PUBLISHED-TTL:P3D
REFRESH-INTERVAL:P3D
CALSCALE:GREGORIAN
BEGIN:VEVENT
DTSTART:20250824T013000Z
DTEND:20250824T033000Z
X-MICROSOFT-CDO-ALLDAYEVENT:FALSE
SUMMARY:End of Summer Jam - FREE DJ Dance Party with DJ Snackzilla & DJ Dierdre Dagata
DESCRIPTION:Come dance the night away to 1990s and early 2000s throwbacks\, hip-hop\, and party anthems!\n\n21+\n\nHuge Dance Floor\n\nHuge Sound\n\nHuge Bar\n\nNO COVER
X-ALT-DESC;FMTTYPE=text/html:<span style="color:rgb(8\, 8\, 9)\; font-family:segoe ui historic\,segoe ui\,helvetica\,arial\,sans-serif\; font-size:18.75px">Come dance the night away to 1990s and early 2000s throwbacks\, hip-hop\, and party anthems!</span><br />\n<span style="color:rgb(8\, 8\, 9)\; font-family:segoe ui historic\,segoe ui\,helvetica\,arial\,sans-serif\; font-size:18.75px">21+</span><br />\n<span style="color:rgb(8\, 8\, 9)\; font-family:segoe ui historic\,segoe ui\,helvetica\,arial\,sans-serif\; font-size:18.75px">Huge Dance Floor</span><br />\n<span style="color:rgb(8\, 8\, 9)\; font-family:segoe ui historic\,segoe ui\,helvetica\,arial\,sans-serif\; font-size:18.75px">Huge Sound</span><br />\n<span style="color:rgb(8\, 8\, 9)\; font-family:segoe ui historic\,segoe ui\,helvetica\,arial\,sans-serif\; font-size:18.75px">Huge Bar</span><br />\n<span style="color:rgb(8\, 8\, 9)\; font-family:segoe ui historic\,segoe ui\,helvetica\,arial\,sans-serif\; font-size:18.75px">NO COVER</span>
LOCATION:The Cut Live - Venue 177 Main Street Gloucester\, MA 01930
UID:e.2981.42991
SEQUENCE:3
DTSTAMP:20260425T011529Z
URL:https://business.capeannchamber.com/events/details/end-of-summer-jam-free-dj-dance-party-with-dj-snackzilla-dj-dierdre-dagata-42991
END:VEVENT

END:VCALENDAR
