BEGIN:VCALENDAR
VERSION:2.0
PRODID:-//ChamberMaster//Event Calendar 2.0//EN
METHOD:PUBLISH
X-PUBLISHED-TTL:P3D
REFRESH-INTERVAL:P3D
CALSCALE:GREGORIAN
BEGIN:VEVENT
DTSTART:20250605T133000Z
DTEND:20250605T153000Z
X-MICROSOFT-CDO-ALLDAYEVENT:FALSE
SUMMARY:En Plein AIr Sketch Class with Sue Wheeler of Arts Abound at Hammond Castle Museum
DESCRIPTION:Classes are offered:\n\n5/8/25 9:30am\n\n5/10/25 9:30am\n\n6/5/25 9:30am\n\n6/7/25 9:30am\n\n7/17/25 6:00pm\n\n7/20/25 9:30am\n\n8/14/25 9:30am\n\n8/16/25 9:30am\n\n9/4/25 9:30am\n\n9/6/25 9:30am\n\n10/4/25 9:30am\n\n10/9/25 9:30am\n\n11/1/25 9:30am\n\n11/6/25 9:30am\n\nWeather permitting.\n\n\n\nFrom stick figure doodlers to first-rate talents\, join us for a seaside\, Plein Air sketch class with Sue Wheeler of Arts Abound in Magnolia. All skill levels are welcome! This two-hour session includes a 30-minute beginner sketch lesson. All you need to bring is a sketchbook\, pencils\, a ruler and an eraser. Please note: watercolors\, pastels\, oils\, or acrylics are not permitted on the Museum grounds. Attendees who wish to tour the Hammond Castle Museum after this class are entitled to a 20% discount on a self-guided tour. Tour tickets may be purchased in the Museum Shop before 2:30 p.m. on the day of this class. Parking is free. There are many stairs leading from the parking lot down to the Museum. All proceeds from this program will support the restoration of the Hammond Castle Museum.
X-ALT-DESC;FMTTYPE=text/html:<div><strong>Classes are offered:</strong><br />\n5/8/25&nbsp\;9:30am</div>\n\n<div>5/10/25&nbsp\;9:30am</div>\n\n<div>6/5/25&nbsp\;9:30am</div>\n\n<div>6/7/25&nbsp\;9:30am</div>\n\n<div>7/17/25&nbsp\;6:00pm</div>\n\n<div>7/20/25&nbsp\;9:30am</div>\n\n<div>8/14/25&nbsp\;9:30am</div>\n\n<div>8/16/25&nbsp\;9:30am</div>\n\n<div>9/4/25&nbsp\;9:30am</div>\n\n<div>9/6/25&nbsp\;9:30am</div>\n\n<div>10/4/25&nbsp\;9:30am</div>\n\n<div>10/9/25&nbsp\;9:30am</div>\n\n<div>11/1/25&nbsp\;9:30am</div>\n\n<div>11/6/25&nbsp\;9:30am<br />\nWeather permitting.<br />\n<br />\n<span style="color:rgb(44\, 62\, 80)\; font-family:noto sans\,sans-serif\; font-size:14px">From stick figure doodlers to first-rate talents\, join us for a seaside\, Plein Air sketch class with Sue Wheeler of Arts Abound in Magnolia. All skill levels are welcome! This two-hour session includes a 30-minute beginner sketch lesson. All you need to bring is a sketchbook\, pencils\, a ruler and an eraser. Please note: watercolors\, pastels\, oils\, or acrylics are not permitted on the Museum grounds. Attendees who wish to tour the Hammond Castle Museum after this class are entitled to a 20% discount on a self-guided tour. Tour tickets may be purchased in the Museum Shop before 2:30 p.m. on the day of this class. Parking is free. There are many stairs leading from the parking lot down to the Museum. All proceeds from this program will support the restoration of the Hammond Castle Museum.</span></div>\n
LOCATION:Hammond Castle Museum 80 Hesperus Avenue\, Gloucester\, MA 10930
UID:e.2981.36659
SEQUENCE:3
DTSTAMP:20260424T211941Z
URL:https://business.capeannchamber.com/events/details/en-plein-air-sketch-class-with-sue-wheeler-of-arts-abound-at-hammond-castle-museum-36659
END:VEVENT

END:VCALENDAR
