BEGIN:VCALENDAR
VERSION:2.0
PRODID:-//ChamberMaster//Event Calendar 2.0//EN
METHOD:PUBLISH
X-PUBLISHED-TTL:P3D
REFRESH-INTERVAL:P3D
CALSCALE:GREGORIAN
BEGIN:VEVENT
DTSTART:20221101T120000Z
DTEND:20221101T140000Z
X-MICROSOFT-CDO-ALLDAYEVENT:FALSE
SUMMARY:Employee Benefits 101: What You Need to Know About Qualified Benefit Plans
DESCRIPTION:This complimentary live presentation will focus on recent legal developments impacting the design and administration of tax-qualified retirement plans and health and welfare plans. Join Rebecca Alperin and members of Morse's Employee Benefits and Employment Law Teams as they provide insight to employers and plan sponsors on hot topics in the world of employee benefits and recent changes impacting employers and employees.\n\nWho should attend?\n\n\n	Plan Administrators\n	HR Directors\n	Compensation Committee Members\n	CFO's and COO's\n\n\nRegister today! Space is limited!\n\nPanelists:\n\nRebecca Alperin\, Member\, Morse\n\nMatt Mitchell\, Member\, Morse\n\nAmanda Thibodeau\, Senior Attorney\, Morse
X-ALT-DESC;FMTTYPE=text/html:<p>This complimentary live presentation will focus on recent legal developments impacting the design and administration of tax-qualified retirement plans and health and welfare plans. Join&nbsp\;<a href="https://www.morse.law/attorney/rebecca-alperin/" style="margin: 0px\; padding: 0px\; border: none\; font: inherit\; vertical-align: baseline\; color: rgb(44\, 140\, 172)\; text-decoration-line: none\; outline: none\;">Rebecca Alperin</a>&nbsp\;and members of Morse&rsquo\;s&nbsp\;<a href="https://www.morse.law/practice/taxation/employee-benefits-and-erisa/" style="margin: 0px\; padding: 0px\; border: none\; font: inherit\; vertical-align: baseline\; color: rgb(44\, 140\, 172)\; text-decoration-line: none\; outline: none\;">Employee Benefits</a>&nbsp\;and&nbsp\;<a href="https://www.morse.law/practice/employment/" style="margin: 0px\; padding: 0px\; border: none\; font: inherit\; vertical-align: baseline\; color: rgb(44\, 140\, 172)\; text-decoration-line: none\; outline: none\;">Employment Law</a>&nbsp\;Teams as they provide insight to employers and plan sponsors on hot topics in the world of employee benefits and recent changes impacting employers and employees.</p>\n\n<p><strong>Who should attend?</strong></p>\n\n<ul>\n	<li>Plan Administrators</li>\n	<li>HR Directors</li>\n	<li>Compensation Committee Members</li>\n	<li>CFO&rsquo\;s and COO&rsquo\;s</li>\n</ul>\n\n<p style="text-align:center"><a href="https://events.r20.constantcontact.com/register/eventReg?oeidk=a07ejew9x5l594f3e3b&amp\;oseq=&amp\;c=&amp\;ch=" style="margin: 0px\; padding: 0px\; border: none\; font: inherit\; vertical-align: baseline\; color: rgb(44\, 140\, 172)\; text-decoration-line: none\; outline: none\;"><strong>Register today! Space is limited!</strong></a></p>\n\n<p><u>Panelists</u>:<br />\n<a href="http://www.morse.law/attorney/rebecca-alperin/">Rebecca Alperin</a>\, Member\, <em>Morse</em><br />\n<a href="https://www.morse.law/attorney/matthew-mitchell/">Matt Mitchell</a>\, Member\,<em> Morse</em><br />\n<a href="https://www.morse.law/attorney/amanda-thibodeau/">Amanda Thibodeau</a>\, Senior Attorney\, <em>Morse</em></p>\n
LOCATION:CityPoint 500 Totten Pond Road\, 1st Floor Waltham\, MA 02451
UID:e.2981.23161
SEQUENCE:3
DTSTAMP:20260424T141329Z
URL:https://business.capeannchamber.com/events/details/employee-benefits-101-what-you-need-to-know-about-the-design-and-administration-of-qualified-benefit-plans-23161
END:VEVENT

END:VCALENDAR
