BEGIN:VCALENDAR
VERSION:2.0
PRODID:-//ChamberMaster//Event Calendar 2.0//EN
METHOD:PUBLISH
X-PUBLISHED-TTL:P3D
REFRESH-INTERVAL:P3D
CALSCALE:GREGORIAN
BEGIN:VEVENT
DTSTART:20241221T000000Z
DTEND:20241221T020000Z
X-MICROSOFT-CDO-ALLDAYEVENT:FALSE
SUMMARY:Elf the Musical Jr.
DESCRIPTION:Gloucester Stage Youth Company is bringing the cotton-candy world of Elf the Musical Jr. to the stage this Holiday Season. When Buddy\, a human raised by elves\, starts his search for his real father\, he is taken to New York City on a journey of family\, love\, and of course some good\, old-fashioned holiday cheer.\n\nBased on the classic holiday film favorite\, Elf the Musical Jr. promises loads of laughs and uplifting festive tunes that will have you tap dancing in your seat.\n\nJoin the Gloucester Stage Youth Company for this festive family play Friday December 20th at 7pm\, Saturday December 21st at 3pm\, and Sunday December 22nd at 3pm at Gloucester Stage Company\, 267 E Main Street\, Gloucester MA. Tickets are $15 for adults and $7 for children under 18 y/o. Reserved Seating.
X-ALT-DESC;FMTTYPE=text/html:<p>Gloucester Stage Youth Company is bringing the cotton-candy world of&nbsp\;<em><strong>Elf the Musical Jr.&nbsp\;</strong></em>to the stage this Holiday Season.&nbsp\;When Buddy\, a human raised by elves\, starts his search for his real father\, he is taken to New York City on a journey of family\, love\, and of course some good\, old-fashioned holiday cheer.</p>\n\n<p>Based on the classic holiday film favorite\,&nbsp\;<strong><em>Elf the Musical Jr.&nbsp\;</em></strong>promises loads of laughs and uplifting festive tunes that will have you tap dancing in your seat.</p>\n\n<p>Join the Gloucester Stage Youth Company for this festive family play Friday December 20th at 7pm\, Saturday December 21st at 3pm\, and Sunday December 22nd at 3pm at Gloucester Stage Company\, 267 E Main Street\, Gloucester MA. Tickets are $15 for adults and $7 for children under 18 y/o. Reserved Seating.</p>\n
LOCATION:Gloucester Stage Company 267 East Main St. Gloucester\, MA 01930
UID:e.2981.34126
SEQUENCE:3
DTSTAMP:20260424T140449Z
URL:https://business.capeannchamber.com/events/details/elf-the-musical-jr-34126
END:VEVENT

END:VCALENDAR
