BEGIN:VCALENDAR
VERSION:2.0
PRODID:-//ChamberMaster//Event Calendar 2.0//EN
METHOD:PUBLISH
X-PUBLISHED-TTL:P3D
REFRESH-INTERVAL:P3D
CALSCALE:GREGORIAN
BEGIN:VEVENT
DTSTART:20221217T010000Z
DTEND:20221217T030000Z
X-MICROSOFT-CDO-ALLDAYEVENT:FALSE
SUMMARY:Eileen Ivers: A Joyful Christmas
DESCRIPTION:It's the most wonderful time of the year  and for years Eileen and the band have been celebrating the glorious story of Christmas\, thoughtfully\, uniquely and with pure unbridled joy! Eileen's Irish and American roots shine throughout the evening's beautiful mix of traditional\, story-filled\, age-old Wren Day songs\, poems\, and of course\, foot stomping and hollerin' roots music.
X-ALT-DESC;FMTTYPE=text/html:It&#39\;s the most wonderful time of the year&nbsp\;&hellip\;and for years Eileen and the band have been&nbsp\;celebrating the glorious story of Christmas\,&nbsp\;thoughtfully\, uniquely and&nbsp\;with pure unbridled joy! Eileen&rsquo\;s Irish and American roots shine throughout the evening&rsquo\;s beautiful mix of traditional\, story-filled\, age-old Wren Day songs\, poems\, and of course\, foot stomping and hollerin&rsquo\; roots music.
LOCATION:Shalin Liu Performance Center 37 Main Street Rockport\, MA
UID:e.2981.23098
SEQUENCE:3
DTSTAMP:20260424T085837Z
URL:https://business.capeannchamber.com/events/details/eileen-ivers-a-joyful-christmas-23098
END:VEVENT

END:VCALENDAR
