BEGIN:VCALENDAR
VERSION:2.0
PRODID:-//ChamberMaster//Event Calendar 2.0//EN
METHOD:PUBLISH
X-PUBLISHED-TTL:P3D
REFRESH-INTERVAL:P3D
CALSCALE:GREGORIAN
BEGIN:VEVENT
DTSTART:20250930T120000Z
DTEND:20250930T133000Z
X-MICROSOFT-CDO-ALLDAYEVENT:FALSE
SUMMARY:Edward Jones Coffee Club
DESCRIPTION:Edward Jones Coffee Club - Volatility or Opportunity? We will be discussing how the Fall Market and New Rate Cut Impact You at our Monthly Market Update in an informal setting. Coffee and baked goods served. RSVP Required.
X-ALT-DESC;FMTTYPE=text/html:<p><strong>Edward Jones Coffee Club - </strong>Volatility or Opportunity? We will be discussing how the Fall Market and New Rate Cut Impact You at our Monthly Market Update in an informal setting. Coffee and baked goods served. RSVP Required.</p>\n
LOCATION:55 Market Street Suite 102 Ipswich
UID:e.2981.44813
SEQUENCE:3
DTSTAMP:20260422T091523Z
URL:https://business.capeannchamber.com/events/details/edward-jones-coffee-club-44813
END:VEVENT

END:VCALENDAR
