BEGIN:VCALENDAR
VERSION:2.0
PRODID:-//ChamberMaster//Event Calendar 2.0//EN
METHOD:PUBLISH
X-PUBLISHED-TTL:P3D
REFRESH-INTERVAL:P3D
CALSCALE:GREGORIAN
BEGIN:VEVENT
DTSTART:20250425T230000Z
DTEND:20250426T020000Z
X-MICROSOFT-CDO-ALLDAYEVENT:FALSE
SUMMARY:Ed Sanders in Gloucester
DESCRIPTION:An evening of verse\, music\, and tales of beatnik glory with legendary poet\, author\, activist\, journalist\, publisher\, Fugs founder and glyph maker Edward Sanders to honor Charles Olson and the polis of Gloucester. Sale of Ed's glyphs at the even will help fund the Gloucester Writers Center.\n\n\n\nSponsored by Neptune's Harvest\, Cape Ann Cosmos\, and Cosmic Bear.
X-ALT-DESC;FMTTYPE=text/html:An evening of verse\, music\, and tales of beatnik glory with legendary poet\, author\, activist\, journalist\, publisher\, Fugs founder and glyph maker Edward Sanders to honor Charles Olson and the polis of Gloucester. Sale of Ed&#39\;s glyphs at the even will help fund the Gloucester Writers Center.<br />\n<br />\n<span style="color:rgb(0\, 0\, 0)\; font-family:arial\,helvetica\,sans-serif">Sponsored by Neptune&rsquo\;s Harvest\, Cape Ann Cosmos\, and Cosmic Bear.</span>
LOCATION:The Gloucester House\, 63 Rogers Street\, Gloucester\, Ma. 01930
UID:e.2981.35946
SEQUENCE:3
DTSTAMP:20260424T140242Z
URL:https://business.capeannchamber.com/events/details/ed-sanders-in-gloucester-35946
END:VEVENT

END:VCALENDAR
