BEGIN:VCALENDAR
VERSION:2.0
PRODID:-//ChamberMaster//Event Calendar 2.0//EN
METHOD:PUBLISH
X-PUBLISHED-TTL:P3D
REFRESH-INTERVAL:P3D
CALSCALE:GREGORIAN
BEGIN:VEVENT
DTSTART:20220301T123000Z
DTEND:20220301T140000Z
X-MICROSOFT-CDO-ALLDAYEVENT:FALSE
SUMMARY:Economic Outlook Breakfast
DESCRIPTION:"I believe that job creation\, business development\, and stabilized neighborhoods are all part of economic development. As a Realtor I regularly speak with business owners and leaders\, and residents. The common thread between them is that there isn't enough housing to allow for proper business expansion."\n\n\n\nCynthia Nina-Soto is an award-winning Realtor and owner of Nina-Soto Realty in Salem\, MA with over 15 years of experience.  In 2020 she shattered glass ceilings by becoming the first person of color to hold the Presidency at the North Shore Association of Realtors in Beverly. In that role Cynthia worked with the leadership team to establish new rules which promote diversity\, equity\, and inclusion within the Realtor Association.\n\n\n\nCynthia is a board member at Harborlight Community Partners. She is a fierce housing advocate who regularly meets with state and local elected officials and has also traveled to Washington DC to advocate for housing affordability and accessibility with Senators Ed Markey and Elizabeth Warren. She previously served in the Affordable Housing Trust for the City of Salem and currently serves on the Salem Redevelopment Authority and the Salem Scholarship and Education Committee.\n\n\n\nThank you to our sponsors\n\nGold: Cape Ann Savings Bank\, Law Office of Meredith A. Fine\n\nSilver: Harborlight Community Partners\, OnTo Mortgage
X-ALT-DESC;FMTTYPE=text/html:<em>&quot\;I believe that job creation\, business development\, and stabilized neighborhoods are all part of economic development. As a Realtor I regularly speak with business owners and leaders\, and residents. The common thread between them is that there isn&#39\;t enough housing to allow for proper business expansion.&quot\;</em><br />\n<br />\nCynthia Nina-Soto is an award-winning Realtor and owner of Nina-Soto Realty in Salem\, MA with over 15 years of experience.&nbsp\; In 2020 she shattered glass ceilings by becoming the first person of color to hold the Presidency at the North Shore Association of Realtors in Beverly. In that role Cynthia worked with the leadership team to establish new rules which promote diversity\, equity\, and inclusion within the Realtor Association.<br />\n<br />\nCynthia is a board member at Harborlight Community Partners. She is a fierce housing advocate who regularly meets with state and local elected officials and has also traveled to Washington DC to advocate for housing affordability and accessibility with Senators Ed Markey and Elizabeth Warren. She previously served in the Affordable Housing Trust for the City of Salem and currently serves on the Salem Redevelopment Authority and the Salem Scholarship and Education Committee.<br />\n<br />\n<span style="font-size:14px\;"><strong>Thank you to our sponsors</strong></span><br />\n<span style="font-size:20px\;"><strong><span style="font-size:16px\;">Gold: <a href="https://www.capeannsavings.bank/">Cape Ann Savings Bank</a>\, <a href="http://www.capeannlegal.com/">Law Office of Meredith A. Fine</a><br />\n<span style="font-size:14px\;">Silver: <a href="https://harborlightcp.org/">Harborlight Community Partners</a>\,&nbsp\;<a href="https://ontomortgage.com/">OnTo Mortgage</a></span></span></strong></span>
LOCATION:Cake Ann 63 Rogers Street\, Gloucester
UID:e.2981.21808
SEQUENCE:3
DTSTAMP:20260420T124501Z
URL:https://business.capeannchamber.com/events/details/economic-outlook-breakfast-21808
END:VEVENT

END:VCALENDAR
