BEGIN:VCALENDAR
VERSION:2.0
PRODID:-//ChamberMaster//Event Calendar 2.0//EN
METHOD:PUBLISH
X-PUBLISHED-TTL:P3D
REFRESH-INTERVAL:P3D
CALSCALE:GREGORIAN
BEGIN:VEVENT
DTSTART:20250412T143000Z
DTEND:20250412T170000Z
X-MICROSOFT-CDO-ALLDAYEVENT:FALSE
SUMMARY:Easter Egg Hunt With The Easter Bunny at Hammond Castle Museum
DESCRIPTION:Rain Date: Saturday\, April 19th.\n\nAll reservations will be honored at the same times.\n\n\n\nBring your little "some-bunny" special to Hammond Castle Museum for a hopping good time! Join us on our ocean-side lawn for an Easter Egg Hunt with the Easter Bunny\, then stick around for a lively bubble dance party!\n\n\n\nWith over 1\,500 treat-filled eggs hidden during each half-hour session\, every child will have the chance to fill their bag! We use a color-coded system by age group to ensure that every bunny has an equal opportunity to gather eggs and go home happy.\n\n\n\nPlease note: Easter Egg Bags will be provided by the Museum. Outside baskets and bags are not permitted.\n\n\n\nWe strongly encourage you to plan ahead and arrive on time for your scheduled session these egg hunts move quickly as the little ones make fast work of collecting their eggs! We recommend that you arrive 15 minutes early to allow enough time for the walk from the parking lot down to the museum\, then for the check-in process and the walk to the lawn. There are many stairs throughout the campus and inside the Museum. Strollers are not permitted in the Museum or on the Museum Grounds.\n\n\n\nYour ticket grants access to the Easter Egg Hunt program on the ocean-facing lawn\, as well as entry to the Museum Shop. If you'd like to explore the Museum\, Self-Guided Tour tickets are available for purchase in the Museum Shop at a 20% discount. The last Self-Guided Tours begin at 2:30 pm. Please present your Easter Egg Hunt event receipt to receive the discount. As always\, children four and under are welcome to join our Guided and Self-Guided Tours free of charge with a ticket.\n\n\n\nProceeds from this event support the ongoing restoration and preservation of Hammond Castle Museum.
X-ALT-DESC;FMTTYPE=text/html:<div>\n<div><span style="color:rgb(24\,24\,24)\; font-family:-apple-system\,blinkmacsystemfont\,segoe ui\,roboto\,helvetica\,arial\,sans-serif\,apple color emoji\,segoe ui emoji\,segoe ui symbol\; font-size:14px">Rain Date: Saturday\, April 19th.</span><br />\n<span style="color:rgb(24\,24\,24)\; font-family:-apple-system\,blinkmacsystemfont\,segoe ui\,roboto\,helvetica\,arial\,sans-serif\,apple color emoji\,segoe ui emoji\,segoe ui symbol\; font-size:14px">All reservations will be honored at the same times.</span><br />\n<br />\n<span style="color:rgb(24\,24\,24)\; font-family:-apple-system\,blinkmacsystemfont\,segoe ui\,roboto\,helvetica\,arial\,sans-serif\,apple color emoji\,segoe ui emoji\,segoe ui symbol\; font-size:14px">Bring your little &ldquo\;some-bunny&rdquo\; special to Hammond Castle Museum for a hopping good time! Join us on our ocean-side lawn for an Easter Egg Hunt with the Easter Bunny\, then stick around for a lively bubble dance party!</span><br />\n<br />\n<span style="color:rgb(24\,24\,24)\; font-family:-apple-system\,blinkmacsystemfont\,segoe ui\,roboto\,helvetica\,arial\,sans-serif\,apple color emoji\,segoe ui emoji\,segoe ui symbol\; font-size:14px">With over 1\,500 treat-filled eggs hidden during each half-hour session\, every child will have the chance to fill their bag! We use a color-coded system by age group to ensure that every bunny has an equal opportunity to gather eggs and go home happy.</span><br />\n<br />\n<em><span style="color:rgb(24\,24\,24)\; font-family:-apple-system\,blinkmacsystemfont\,segoe ui\,roboto\,helvetica\,arial\,sans-serif\,apple color emoji\,segoe ui emoji\,segoe ui symbol\; font-size:14px">Please note: Easter Egg Bags will be provided by the Museum. Outside baskets and bags are not permitted.</span></em><br />\n<br />\n<span style="color:rgb(24\,24\,24)\; font-family:-apple-system\,blinkmacsystemfont\,segoe ui\,roboto\,helvetica\,arial\,sans-serif\,apple color emoji\,segoe ui emoji\,segoe ui symbol\; font-size:14px">We strongly encourage you to plan ahead and arrive on time for your scheduled session&mdash\;these egg hunts move quickly as the little ones make fast work of collecting their eggs! We recommend that you arrive 15 minutes early to allow enough time for the walk from the parking lot down to the museum\, then for the check-in process and the walk to the lawn. There are many stairs throughout the campus and inside the Museum. Strollers are not permitted in the Museum or on the Museum Grounds.</span><br />\n<br />\n<span style="color:rgb(24\,24\,24)\; font-family:-apple-system\,blinkmacsystemfont\,segoe ui\,roboto\,helvetica\,arial\,sans-serif\,apple color emoji\,segoe ui emoji\,segoe ui symbol\; font-size:14px">Your ticket grants access to the Easter Egg Hunt program on the ocean-facing lawn\, as well as entry to the Museum Shop. If you&rsquo\;d like to explore the Museum\, Self-Guided Tour tickets are available for purchase in the Museum Shop at a 20% discount. The last Self-Guided Tours begin at 2:30 pm. Please present your Easter Egg Hunt event receipt to receive the discount. As always\, children four and under are welcome to join our Guided and Self-Guided Tours free of charge with a ticket.</span><br />\n<br />\n<span style="color:rgb(24\,24\,24)\; font-family:-apple-system\,blinkmacsystemfont\,segoe ui\,roboto\,helvetica\,arial\,sans-serif\,apple color emoji\,segoe ui emoji\,segoe ui symbol\; font-size:14px">Proceeds from this event support the ongoing restoration and preservation of Hammond Castle Museum.</span></div>\n</div>\n\n<div>\n<p>&nbsp\;</p>\n</div>\n
LOCATION:Hammond Castle Museum 80 Hesperus Avenue Gloucester\, MA
UID:e.2981.35188
SEQUENCE:3
DTSTAMP:20260424T123910Z
URL:https://business.capeannchamber.com/events/details/easter-egg-hunt-with-the-easter-bunny-at-hammond-castle-museum-04-12-2025-35188
END:VEVENT

END:VCALENDAR
