BEGIN:VCALENDAR
VERSION:2.0
PRODID:-//ChamberMaster//Event Calendar 2.0//EN
METHOD:PUBLISH
X-PUBLISHED-TTL:P3D
REFRESH-INTERVAL:P3D
CALSCALE:GREGORIAN
BEGIN:VEVENT
DTSTART:20221030T190000Z
DTEND:20221030T210000Z
X-MICROSOFT-CDO-ALLDAYEVENT:FALSE
SUMMARY:Downtown Rockport Trick or Treating
DESCRIPTION:Rockport Downtown Businesses present trick or treating on Sunday\, October 30!\n\n\n\nParticipating businesses include:\n\nApothecary Suil Crow\n\nArtesanos\n\nThe Art of David Arsenault\n\nArt Nook Gallery\n\nBearskin Neck Country Store\n\nBrother's Brew\n\nCarol Lee's Cottage\n\nCedar Chest Rockport\n\nCLEOD\n\nCoastal Glassblowing\nThe Dove\n\nEden Pines & Olson Real Estate Table by the Information Shed\n\nDreamhouse Gallery & Boutique\n\nGallery Number One\n\nGood Dog Gallery\n\nJohn Caggiano Gallery\n\nLoren Doucette Studios at\n\nSeven Suns Gallery\n\nPaper Mermaid\n\nThe Pewter Shop\n\nRockport Art Association & Museum\n\nRockport Candle Company\n\nRKPT WKNDR\n\nRockport Music/Shalin Liu Performance Center\n\nSalty's Lobster\, Dogs & More\n\nSandcastles\n\nScott Tubby Fine Art\n\nShore Thing\n\nSusie's Stories\n\nThe Cove at Rockport\n\nTuck's Candy Factory\n\nTuck's Candy & Gifts\n\nWhale's Tail\n\nWharf Rat\n\n\nMore businesses are likely to participate but have not formally signed up so please keep an eye out for the Trick or Treat flyer in store windows so you know who is participating!
X-ALT-DESC;FMTTYPE=text/html:Rockport Downtown Businesses present trick or treating on Sunday\, October 30!<br />\n<br />\nParticipating businesses include:<br />\n<span style="color: black\;">Apothecary Suil Crow</span><br />\n<span style="color: black\;">Artesanos</span><br />\n<span style="color: black\;">The Art of David Arsenault</span><br />\n<span style="color: black\;">Art Nook Gallery</span><br />\n<span style="color: black\;">Bearskin Neck Country Store</span><br />\n<span style="color: black\;">Brother&rsquo\;s Brew</span><br />\n<span style="color: black\;">Carol Lee&#39\;s Cottage</span><br />\n<span style="color: black\;">Cedar Chest Rockport<br />\nCLEOD</span><br />\n<span style="color: black\;">Coastal Glassblowing</span>\n<p class="04xlpa"><span class="jsgrdq"><span style="color:black">The Dove</span></span><br />\n<span class="jsgrdq"><span style="color:black">Eden Pines &amp\; Olson Real Estate Table by the Information Shed</span></span><br />\n<span class="jsgrdq"><span style="color:black">Dreamhouse Gallery &amp\; Boutique</span></span><br />\n<span class="jsgrdq"><span style="color:black">Gallery Number One<br />\nGood Dog Gallery</span></span><br />\n<span class="jsgrdq"><span style="color:black">John Caggiano Gallery</span></span><br />\n<span class="jsgrdq"><span style="color:black">Loren Doucette Studios at</span></span><br />\n<span class="jsgrdq"><span style="color:black">Seven Suns Gallery</span></span><br />\n<span class="jsgrdq"><span style="color:black">Paper Mermaid</span></span><br />\n<span class="jsgrdq"><span style="color:black">The Pewter Shop</span></span><br />\n<span class="jsgrdq"><span style="color:black">Rockport Art Association&nbsp\;</span></span><span class="jsgrdq"><span style="color:black">&amp\; Museum</span></span><br />\n<span class="jsgrdq"><span style="color:black">Rockport Candle Company</span></span><br />\n<span class="jsgrdq"><span style="color:black">RKPT WKNDR</span></span><br />\n<span class="jsgrdq"><span style="color:black">Rockport Music/Shalin Liu Performance Center</span></span><br />\n<span class="jsgrdq"><span style="color:black">Salty&#39\;s Lobster\, Dogs &amp\; More</span></span><br />\n<span class="jsgrdq"><span style="color:black">Sandcastles</span></span><br />\n<span class="jsgrdq"><span style="color:black">Scott Tubby Fine Art</span></span><br />\n<span class="jsgrdq"><span style="color:black">Shore Thing</span></span><br />\n<span class="jsgrdq"><span style="color:black">Susie&#39\;s Stories</span></span><br />\n<span class="jsgrdq"><span style="color:black">The Cove at Rockport</span></span><br />\n<span class="jsgrdq"><span style="color:black">Tuck&#39\;s Candy Factory</span></span><br />\n<span class="jsgrdq"><span style="color:black">Tuck&rsquo\;s Candy &amp\; Gifts</span></span><br />\n<span class="jsgrdq"><span style="color:black">Whale&#39\;s Tail</span></span><br />\n<span class="jsgrdq"><span style="color:black">Wharf Rat</span></span></p>\n<br />\nMore businesses are likely to participate but have not formally signed up so please keep an eye out for the Trick or Treat flyer in store windows so you know who is participating!<br />\n&nbsp\;
LOCATION:Downtown Rockport
UID:e.2981.23168
SEQUENCE:3
DTSTAMP:20260424T123620Z
URL:https://business.capeannchamber.com/events/details/downtown-rockport-trick-or-treating-23168
END:VEVENT

END:VCALENDAR
