BEGIN:VCALENDAR
VERSION:2.0
PRODID:-//ChamberMaster//Event Calendar 2.0//EN
METHOD:PUBLISH
X-PUBLISHED-TTL:P3D
REFRESH-INTERVAL:P3D
CALSCALE:GREGORIAN
BEGIN:VEVENT
DTSTART:20250712T170000Z
DTEND:20250712T200000Z
X-MICROSOFT-CDO-ALLDAYEVENT:FALSE
SUMMARY:Down to the Sea\, The Photographs of Ernest L. Blatchford: Member Opening Reception
DESCRIPTION:Saturday\, July 12\, 2025\n\n1:00 p.m.   4:00 p.m.\n\nJanet & William Ellery James Center\, CAM Green\n\n13 Poplar Street\, Gloucester\, MA\n\nCAM Members Only\, Registration is Required\n\nCAM Members are warmly invited to celebrate the opening for Down to the Sea\, The Photographs of Ernest L. Blatchford. This exhibition will feature a selection of photographs made by Ernest Blatchford during the early 20th century documenting Gloucester's fishing industry.  Accompanying the images will be objects from CAM's maritime and fisheries collection that complement Blatchford's photographs and allow visitors to learn more about the processing of fish\, the ancillary vessels working in Gloucester Harbor during the early 20th century\, and the outfitting of fishing vessels a century ago. \n\nRegistration is required.\n\nNot a member? Join today at capeannmuseum.org/membership!\n\nImage: View of Gloucester Harbor\, c. 1900\, photograph by Ernest L. Blatchford (1868-1947). Gordon W. Thomas Collection of the Cape Ann Museum Library & Archives\, Gloucester\, MA. Museum Purchase/Gift [2794]
X-ALT-DESC;FMTTYPE=text/html:<p>Saturday\, July 12\, 2025<br />\n1:00 p.m. &ndash\; 4:00 p.m.<br />\nJanet &amp\; William Ellery James Center\,&nbsp\;<a href="https://www.capeannmuseum.org/visit/cam-green-campus/" style="box-sizing: border-box\; margin: 0px\; padding: 0px\; border-width: 0px 0px 1px\; border-top-style: initial\; border-right-style: initial\; border-bottom-style: solid\; border-left-style: initial\; border-color: rgb(211\, 211\, 211)\; border-image: initial\; font-variant: inherit\; font-weight: inherit\; font-stretch: inherit\; font-size: inherit\; line-height: inherit\; font-family: inherit\; font-optical-sizing: inherit\; font-size-adjust: inherit\; font-kerning: inherit\; font-feature-settings: inherit\; font-variation-settings: inherit\; vertical-align: baseline\; text-decoration-line: none\; outline: 0px\; max-width: 100%\; color: rgb(37\, 119\, 160)\; transition: color 0.2s\;">CAM Green</a><br />\n13 Poplar Street\, Gloucester\, MA<br />\n<em>CAM Members Only\,&nbsp\;<a href="https://115461a.blackbaudhosting.com/115461a/Member-Opening-Reception-Down-to-the-Sea" style="box-sizing: border-box\; margin: 0px\; padding: 0px\; border-width: 0px 0px 1px\; border-top-style: initial\; border-right-style: initial\; border-bottom-style: solid\; border-left-style: initial\; border-color: rgb(211\, 211\, 211)\; border-image: initial\; font-style: normal\; font-variant: inherit\; font-weight: inherit\; font-stretch: inherit\; font-size: inherit\; line-height: inherit\; font-family: inherit\; font-optical-sizing: inherit\; font-size-adjust: inherit\; font-kerning: inherit\; font-feature-settings: inherit\; font-variation-settings: inherit\; vertical-align: baseline\; text-decoration-line: none\; outline: 0px\; max-width: 100%\; color: rgb(37\, 119\, 160)\; transition: color 0.2s\;">Registration is Required</a></em></p>\n\n<p>CAM Members are warmly invited to celebrate the opening for&nbsp\;<a href="https://www.capeannmuseum.org/exhibition/down-to-the-sea/" style="box-sizing: border-box\; margin: 0px\; padding: 0px\; border-width: 0px 0px 1px\; border-top-style: initial\; border-right-style: initial\; border-bottom-style: solid\; border-left-style: initial\; border-color: rgb(211\, 211\, 211)\; border-image: initial\; font-variant: inherit\; font-weight: inherit\; font-stretch: inherit\; font-size: inherit\; line-height: inherit\; font-family: inherit\; font-optical-sizing: inherit\; font-size-adjust: inherit\; font-kerning: inherit\; font-feature-settings: inherit\; font-variation-settings: inherit\; vertical-align: baseline\; text-decoration-line: none\; outline: 0px\; max-width: 100%\; color: rgb(37\, 119\, 160)\; transition: color 0.2s\;"><strong><em>Down to the Sea\, The Photographs of Ernest L. Blatchford</em></strong></a>. This exhibition&nbsp\;will feature a selection of photographs made by Ernest Blatchford during the early 20th&nbsp\;century documenting Gloucester&rsquo\;s fishing industry.&nbsp\; Accompanying the images will be objects from CAM&rsquo\;s maritime and fisheries collection that complement Blatchford&rsquo\;s photographs and allow visitors to learn more about the processing of fish\, the ancillary vessels working in Gloucester Harbor during the early 20th&nbsp\;century\, and the outfitting of fishing vessels a century ago.&nbsp\;</p>\n\n<p><a href="https://115461a.blackbaudhosting.com/115461a/Member-Opening-Reception-Down-to-the-Sea" style="box-sizing: border-box\; margin: 0px\; padding: 0px\; border-width: 0px 0px 1px\; border-top-style: initial\; border-right-style: initial\; border-bottom-style: solid\; border-left-style: initial\; border-color: rgb(211\, 211\, 211)\; border-image: initial\; font-variant: inherit\; font-weight: inherit\; font-stretch: inherit\; font-size: inherit\; line-height: inherit\; font-family: inherit\; font-optical-sizing: inherit\; font-size-adjust: inherit\; font-kerning: inherit\; font-feature-settings: inherit\; font-variation-settings: inherit\; vertical-align: baseline\; text-decoration-line: none\; outline: 0px\; max-width: 100%\; color: rgb(37\, 119\, 160)\; transition: color 0.2s\;">Registration is required.</a></p>\n\n<p>Not a member? Join today at&nbsp\;<a href="https://www.capeannmuseum.org/join-give/memberships/" style="box-sizing: border-box\; margin: 0px\; padding: 0px\; border-width: 0px 0px 1px\; border-top-style: initial\; border-right-style: initial\; border-bottom-style: solid\; border-left-style: initial\; border-color: rgb(211\, 211\, 211)\; border-image: initial\; font-variant: inherit\; font-weight: inherit\; font-stretch: inherit\; font-size: inherit\; line-height: inherit\; font-family: inherit\; font-optical-sizing: inherit\; font-size-adjust: inherit\; font-kerning: inherit\; font-feature-settings: inherit\; font-variation-settings: inherit\; vertical-align: baseline\; text-decoration-line: none\; outline: 0px\; max-width: 100%\; color: rgb(37\, 119\, 160)\; transition: color 0.2s\;">capeannmuseum.org/membership</a>!</p>\n\n<p><em>Image: View of Gloucester Harbor\, c. 1900\, photograph by Ernest L. Blatchford (1868-1947). Gordon W. Thomas Collection of the Cape Ann Museum Library &amp\; Archives\, Gloucester\, MA. Museum Purchase/Gift [2794]</em></p>\n
LOCATION:Janet & William Ellery James Center\, CAM Green 13 Poplar Street\, Gloucester\, MA
UID:e.2981.37363
SEQUENCE:3
DTSTAMP:20260424T223622Z
URL:https://business.capeannchamber.com/events/details/down-to-the-sea-the-photographs-of-ernest-l-blatchford-member-opening-reception-37363
END:VEVENT

END:VCALENDAR
