BEGIN:VCALENDAR
VERSION:2.0
PRODID:-//ChamberMaster//Event Calendar 2.0//EN
METHOD:PUBLISH
X-PUBLISHED-TTL:P3D
REFRESH-INTERVAL:P3D
CALSCALE:GREGORIAN
BEGIN:VEVENT
DTSTART:20250621T140000Z
DTEND:20250621T150000Z
X-MICROSOFT-CDO-ALLDAYEVENT:FALSE
SUMMARY:Donuts at the Academy
DESCRIPTION:Want to learn more about Gloucester Biotechnology Academy? Come to our WEEKEND OPEN HOUSE on Saturday\, June 21. Drop by anytime from 10:00 am to 11:00 am. Chat with staff\, tour our state-of-the-art teaching laboratories\, and learn about our programs! No need to register.\n\n\n\nThe Academy is located at 55 Blackburn Center in Gloucester (please note the address\, since we have two locations).\n\n\n\nIf you can't make it\, but would like to learn more about the Academy\, contact Laura Richane: laura.richane@gmgi.org.
X-ALT-DESC;FMTTYPE=text/html:Want to learn more about Gloucester Biotechnology Academy? Come to our&nbsp\;WEEKEND OPEN HOUSE on Saturday\,&nbsp\;June 21. Drop by anytime from 10:00 am to 11:00 am.&nbsp\;Chat with staff\, tour our state-of-the-art&nbsp\;teaching laboratories\, and learn about our&nbsp\;programs!&nbsp\;No need to register.<br />\n<br />\nThe Academy is located at 55 Blackburn Center in Gloucester (please note the address\, since we have two locations).<br />\n<br />\nIf you can&#39\;t make it\, but would like to learn more about the Academy\, contact Laura Richane: laura.richane@gmgi.org.
LOCATION:Gloucester Biotechnology Academy\, 55 Blackburn Center\, Gloucester
UID:e.2981.37299
SEQUENCE:3
DTSTAMP:20260424T211102Z
URL:https://business.capeannchamber.com/events/details/donuts-at-the-academy-37299
END:VEVENT

END:VCALENDAR
