BEGIN:VCALENDAR
VERSION:2.0
PRODID:-//ChamberMaster//Event Calendar 2.0//EN
METHOD:PUBLISH
X-PUBLISHED-TTL:P3D
REFRESH-INTERVAL:P3D
CALSCALE:GREGORIAN
BEGIN:VEVENT
DTSTART:20140709T000000Z
DTEND:20140709T000000Z
X-MICROSOFT-CDO-ALLDAYEVENT:FALSE
SUMMARY:Donald Sinta Saxophone Quartet
DESCRIPTION:Rising Star Series: Donald Sinta Saxophone Quartet \nWinners of numerous competitions\, the Donald Sinta Saxophone Quartet has won grand prize at the 2013 Concert Artist Guild Competition\, the 2013 Coleman Chamber Music Competition and the 2012 North American Saxophone Alliance Quartet Competition.  The Quartet's program will feature Barber's Adagio for Strings\, as well as works by Schubert\, Glazunov\, Wanamaker and Michael Nyman.\ntickets: $34/$28/$19
X-ALT-DESC;FMTTYPE=text/html:Rising Star Series: Donald Sinta Saxophone Quartet \nWinners of numerous competitions\, the Donald Sinta Saxophone Quartet has won grand prize at the 2013 Concert Artist Guild Competition\, the 2013 Coleman Chamber Music Competition and the 2012 North American Saxophone Alliance Quartet Competition.  The Quartet's program will feature Barber's Adagio for Strings\, as well as works by Schubert\, Glazunov\, Wanamaker and Michael Nyman.\ntickets: $34/$28/$19
LOCATION:Shalin Liu Performance Center\, Rockport\, Ma 01966
UID:e.2981.1266
SEQUENCE:3
DTSTAMP:20260419T154837Z
URL:https://business.capeannchamber.com/events/details/donald-sinta-saxophone-quartet-07-08-2014-1266
END:VEVENT

END:VCALENDAR
