BEGIN:VCALENDAR
VERSION:2.0
PRODID:-//ChamberMaster//Event Calendar 2.0//EN
METHOD:PUBLISH
X-PUBLISHED-TTL:P3D
REFRESH-INTERVAL:P3D
CALSCALE:GREGORIAN
BEGIN:VEVENT
DTSTART:20250907T140000Z
DTEND:20250907T220000Z
X-MICROSOFT-CDO-ALLDAYEVENT:FALSE
SUMMARY:Doggie Maze Daze
DESCRIPTION:INCLUDES ADMISSION TO THE MAZE PARK PLAY AREA\n\n\n\nBring your four legged friend on opening weekend and help raise $ for the Ipswich Humane Group.  A portion of every admission goes to cover food and medical expenses for animals of all types in the care of The Ipswich Humane Group.  You and your pooch can enjoy 7 acres if twisting paths through the corn maze.\n\n All dogs must be leashed at all times.  Owners must clean up after their dogs.\n\n\n\nEvery guest\, ages 3+\, must have an admission wristband to enter the Maze Park Play Area/Corn Maze.  Kids age 2 and under are FREE with a paying adult. \n\n\n\n All guests 13 and under must have an adult in the Maze Park/Corn Maze with them. This requirement helps ensure the safety and enjoyment of the Maze Park and Corn Maze for all guests.
X-ALT-DESC;FMTTYPE=text/html:<div data-testid="richTextElement" id="comp-lvzbkxzp">\n<p><span style="font-family:arial\;"><span style="font-size:14px\;">INCLUDES ADMISSION TO THE MAZE PARK PLAY AREA</span></span></p>\n</div>\n\n<div data-testid="richTextElement" id="comp-lvzbkxzq1">\n<p><span style="font-family:arial\;"><span style="font-size:14px\;">Bring your four legged friend on opening weekend and help raise $ for the Ipswich Humane Group.&nbsp\; A portion of every admission goes to cover food and medical expenses for animals of all types in the care of The Ipswich Humane Group.&nbsp\; You and your pooch can enjoy 7 acres if twisting paths through the corn maze.</span></span></p>\n\n<p><span style="font-family:arial\;"><span style="font-size:14px\;">&#8203\;All dogs must be leashed at all times.&nbsp\; Owners must clean up after their dogs.</span></span></p>\n</div>\n\n<div data-testid="richTextElement" id="comp-lvzbkxzr1">\n<h5><span style="font-family:arial\;"><span style="font-size:14px\;">Every guest\, ages 3+\, must have an admission wristband to enter the Maze Park Play Area/Corn Maze.&nbsp\; Kids age 2 and under are FREE with a paying adult.&#8203\;</span></span></h5>\n</div>\n\n<div data-testid="richTextElement" id="comp-lvzbkxzs1">\n<p><span style="font-family:arial\;"><span style="font-size:14px\;">&#8203\;All guests 13 and under must have an adult in the Maze Park/Corn Maze with them.&nbsp\;This requirement helps ensure the safety and enjoyment of the Maze Park and Corn Maze for all guests.</span></span></p>\n</div>\n<scribe-shadow data-crx="okfkdaglfjjjfefdcppliegebpoegaii" id="crxjs-ext" style="position: fixed\; width: 0px\; height: 0px\; top: 0px\; left: 0px\; z-index: 2147483647\; overflow: visible\; visibility: visible\;"></scribe-shadow>
LOCATION:Location: Marini Farm 259 Linebrook Road Ipswich\, MA 01938
UID:e.2981.43129
SEQUENCE:3
DTSTAMP:20260422T104817Z
URL:https://business.capeannchamber.com/events/details/doggie-maze-daze-09-07-2025-43129
END:VEVENT

END:VCALENDAR
