BEGIN:VCALENDAR
VERSION:2.0
PRODID:-//ChamberMaster//Event Calendar 2.0//EN
METHOD:PUBLISH
X-PUBLISHED-TTL:P3D
REFRESH-INTERVAL:P3D
CALSCALE:GREGORIAN
BEGIN:VEVENT
DTSTART:20251115T010000Z
DTEND:20251115T040000Z
X-MICROSOFT-CDO-ALLDAYEVENT:FALSE
SUMMARY:DMTB - A Celebration of Dave Matthews Band at The Cut
DESCRIPTION:Reserved Seats $35 + $6.95 service fee\n\nGA Standing $20 + $6.95 service fee\n\n7:00pm Doors / 8:00pm Show\n\n21+\, Positive I.D. Required. \n\n\n\nDMTB is a celebration of the music of the Dave Matthews Band - a time machine to a funky tea party in the 90's\, a boisterous era of tape trading\, sing-alongs\, and exploration into a new sonic landscape spearheaded by complex guitar riffs\, soaring violin melodies\, smooth sax lines\, and explorative-explosive drumming.\n\n\n\nDedicated to recreating that moment in musical history\, the DMTB has been honing their craft for over 20 years. Since 2004\, the band's ruthless touring schedule has been unparalleled\, playing over 2000 shows in 46 states and 10 countries. The Buffalo\, NY based band has successfully paid tribute to the Dave Matthews Band\, with heartfelt recreation of DMB's musical spirit.\n\n\n\nThe DMTB aims to transport the listener back in time. The band takes inspiration from the classic DMB sound\, with immense respect for the original quintet. While including material from the bands later and current catalogs\, the goal is to create a well rounded and authentic tribute.\n\n\n\nThe attention to details\, love for the music\, and sense of community creates an atmosphere that causes concert goers to say "...wow\, if I close my eyes\, it's like I'm there!"
X-ALT-DESC;FMTTYPE=text/html:<span style="color:rgb(64\, 64\, 65)\; font-family:open sans\,sans-serif\; font-size:14px">Reserved Seats $35 + $6.95 service fee</span><br />\n<span style="color:rgb(64\, 64\, 65)\; font-family:open sans\,sans-serif\; font-size:14px">GA Standing $20 + $6.95 service fee</span><br />\n<span style="color:rgb(64\, 64\, 65)\; font-family:open sans\,sans-serif\; font-size:14px">7:00pm Doors / 8:00pm Show</span><br />\n<span style="color:rgb(64\, 64\, 65)\; font-family:open sans\,sans-serif\; font-size:14px">21+\, Positive I.D. Required.&nbsp\;</span><br />\n<br />\n<span style="color:rgb(64\, 64\, 65)\; font-family:open sans\,sans-serif\; font-size:14px">DMTB is a celebration of the music of the Dave Matthews Band - a time machine to a funky tea party in the 90&rsquo\;s\, a boisterous era of tape trading\, sing-alongs\, and exploration into a new sonic landscape spearheaded by complex guitar riffs\, soaring violin melodies\, smooth sax lines\, and explorative-explosive drumming.</span><br />\n<br />\n<span style="color:rgb(64\, 64\, 65)\; font-family:open sans\,sans-serif\; font-size:14px">Dedicated to recreating that moment in musical history\, the DMTB has been honing their craft for over 20 years. Since 2004\, the band&rsquo\;s ruthless touring schedule has been unparalleled\, playing over 2000 shows in 46 states and 10 countries. The Buffalo\, NY based band has successfully paid tribute to the Dave Matthews Band\, with heartfelt recreation of DMB&rsquo\;s musical spirit.</span><br />\n<br />\n<span style="color:rgb(64\, 64\, 65)\; font-family:open sans\,sans-serif\; font-size:14px">The DMTB aims to transport the listener back in time. The band takes inspiration from the classic DMB sound\, with immense respect for the original quintet. While including material from the bands later and current catalogs\, the goal is to create a well rounded and authentic tribute.</span><br />\n<br />\n<span style="color:rgb(64\, 64\, 65)\; font-family:open sans\,sans-serif\; font-size:14px">The attention to details\, love for the music\, and sense of community creates an atmosphere that causes concert goers to say &ldquo\;...wow\, if I close my eyes\, it&#39\;s like I&rsquo\;m there!&rdquo\;</span>
LOCATION:The Cut 177 Main St Gloucester\, MA
UID:e.2981.43017
SEQUENCE:3
DTSTAMP:20260422T060919Z
URL:https://business.capeannchamber.com/events/details/dmtb-a-celebration-of-dave-matthews-band-at-the-cut-43017
END:VEVENT

END:VCALENDAR
