BEGIN:VCALENDAR
VERSION:2.0
PRODID:-//ChamberMaster//Event Calendar 2.0//EN
METHOD:PUBLISH
X-PUBLISHED-TTL:P3D
REFRESH-INTERVAL:P3D
CALSCALE:GREGORIAN
BEGIN:VEVENT
DTSTART:20251025T140000Z
DTEND:20251025T160000Z
X-MICROSOFT-CDO-ALLDAYEVENT:FALSE
SUMMARY:Discover Saturdays
DESCRIPTION:Saturday\, October 25\, 2025\n\n10:00 a.m.   12:00 p.m.\n\nJanet & William Ellery James Center\, CAM Green\n\nFree and open to the public\n\nRegistration is required\n\n\n\nEnjoy a FREE guided activity (ages 4+) in the gallery. Learn about Cape Ann's Granite Industry\, try a fun art making activity\, and join in gallery tour designed for kids and their caregivers\, led by a CAM Educator. Afterwards grab a scavenger hunt to explore the property and enjoy the lawn.\n\n\n\nImage Credit: CAM Teen Council members leading hands-on games and activities for kids of all ages\, CAM Staff Photo.
X-ALT-DESC;FMTTYPE=text/html:<p>Saturday\, October 25\, 2025<br />\n10:00 a.m. &ndash\; 12:00 p.m.<br />\nJanet &amp\; William Ellery James Center\, CAM Green<br />\nFree and open to the public<br />\nRegistration is required<br />\n<br />\nEnjoy a FREE guided activity (ages 4+) in the gallery. Learn about Cape Ann&rsquo\;s Granite Industry\, try a fun art making activity\, and join in gallery tour designed for kids and their caregivers\, led by a CAM Educator. Afterwards grab a scavenger hunt to explore the property and enjoy the lawn.<br />\n<br />\nImage Credit: CAM Teen Council members leading hands-on games and activities for kids of all ages\, CAM Staff Photo.</p>\n
LOCATION:Janet & William Ellery James Center\, CAM Green
UID:e.2981.45146
SEQUENCE:3
DTSTAMP:20260425T023437Z
URL:https://business.capeannchamber.com/events/details/discover-saturdays-10-25-2025-45146
END:VEVENT

END:VCALENDAR
