BEGIN:VCALENDAR
VERSION:2.0
PRODID:-//ChamberMaster//Event Calendar 2.0//EN
METHOD:PUBLISH
X-PUBLISHED-TTL:P3D
REFRESH-INTERVAL:P3D
CALSCALE:GREGORIAN
BEGIN:VEVENT
DTSTART:20260201T010000Z
DTEND:20260201T030000Z
X-MICROSOFT-CDO-ALLDAYEVENT:FALSE
SUMMARY:Dirty Deeds - The AC/DC Experience
DESCRIPTION:Let there be rock!\n\n\nAn experience unlike any other \n\nDirty Deeds   The AC/DC experience celebrates the thunderous energy of the Bon Scott and Brian Johnson era delivering a power-packed performance that takes the audience on a journey through the story that is AC/DC.\n\nReminiscent of the legendary Australian rockers\, Dirty Deeds\, captures the essence of the band that defined a genre.\n\nChanneling the electrifying guitar riffs of Angus and Malcolm Young\, Dirty Deeds\, recreates their chemistry and signature stage moves paying a fitting tribute to the rock 'n' roll band who ignited a global musical revolution.\n\nUnlike most tribute acts\, Dirty Deeds uniquely creates an immersive\, authentic\, and interactive AC/DC experience\, transporting fans back to the glory days of classic Rock N Roll all while paying tribute to the unique history that is AC/DC.
X-ALT-DESC;FMTTYPE=text/html:<p>Let there be rock!</p>\n\n<div>\n<p>An experience unlike any other&hellip\;</p>\n\n<p>Dirty Deeds &ndash\; The AC/DC experience celebrates the thunderous energy of the Bon Scott and Brian Johnson era delivering a power-packed performance that takes the audience on a journey through the story that is AC/DC.</p>\n\n<p>Reminiscent of the legendary Australian rockers\, Dirty Deeds\, captures the essence of the band that defined a genre.</p>\n\n<p>Channeling the electrifying guitar riffs of Angus and Malcolm Young\, Dirty Deeds\, recreates their chemistry and signature stage moves paying a fitting tribute to the rock &lsquo\;n&rsquo\; roll band who ignited a global musical revolution.</p>\n\n<p>Unlike most tribute acts\, Dirty Deeds uniquely creates an immersive\, authentic\, and interactive AC/DC experience\, transporting fans back to the glory days of classic Rock N Roll all while paying tribute to the unique history that is AC/DC.</p>\n</div>\n
LOCATION:The Cabot 286 Cabot St Beverly\, MA 01915
UID:e.2981.45852
SEQUENCE:3
DTSTAMP:20260425T135205Z
URL:https://business.capeannchamber.com/events/details/dirty-deeds-the-ac-dc-experience-01-31-2026-45852
END:VEVENT

END:VCALENDAR
