BEGIN:VCALENDAR
VERSION:2.0
PRODID:-//ChamberMaster//Event Calendar 2.0//EN
METHOD:PUBLISH
X-PUBLISHED-TTL:P3D
REFRESH-INTERVAL:P3D
CALSCALE:GREGORIAN
BEGIN:VEVENT
DTSTART:20260610T220000Z
DTEND:20260611T000000Z
X-MICROSOFT-CDO-ALLDAYEVENT:FALSE
SUMMARY:Digital Legacy Workshop
DESCRIPTION:DIGITAL LEGACY WORKSHOP\n\nPlan Today. Protect Tomorrow.\n\nWhat happens to your online life after you're gone? From social media accounts to photos\, emails\, and cloud storage your digital footprint matters. This workshop will guide you through the steps to ensure your digital assets are handled according to your wishes.\n\nLearn:\n\n\n	Memorialize your Facebook account\n	Set up a Legacy Contact for your Apple ID\n	Set up Legacy Users to download your Google data\n	Creating a secure inventory of your digital assets\n	Best practices for passwords\, access\, and documentation\n	How to incorporate digital assets into your estate plan\n\n\nTake Home:\n\n\n	Digital Legacy Letter Templates\n	Email templates\n	Checklist for Senior\n	Checklist for Loved Ones\n	Guide to obtaining a Death Certificate\n	Workbook for recording accounts and login details\n	Link to recording of presentation\n\n\nWhy It Matters:\n\nWithout a plan\, loved ones may struggle to access important information or may be unable to manage your accounts at all. Taking a few simple steps now can save time\, stress\, and uncertainty later.\n\nWho Should Attend:\n\nAnyone who uses email\, social media\, cloud storage\, or online financial accounts and wants to make things easier for their family.\n\nBring:\n\n\n	A list of your digital accounts (if available)\n	Your questions about digital planning\n\n\nWorkshop Presenter:\n\nScott Yaffe\, SeniorCare Tech Trainer/Navigator\n\nReserve your spot today online or call 978-281-1750 x-838!\n\nTake control of your digital legacy because your story doesn't end offline.
X-ALT-DESC;FMTTYPE=text/html:<h2 style="font-style:normal\; text-align:start"><strong>DIGITAL LEGACY WORKSHOP</strong><br />\nPlan Today. Protect Tomorrow.</h2>\n\n<p style="text-align:start">What happens to your online life after you&rsquo\;re gone? From social media accounts to photos\, emails\, and cloud storage&mdash\;your digital footprint matters. This workshop will guide you through the steps to ensure your digital assets are handled according to your wishes.</p>\n\n<h2 style="font-style:normal\; text-align:start"><strong>Learn:</strong></h2>\n\n<ul>\n	<li>Memorialize your Facebook account</li>\n	<li>Set up a Legacy Contact for your Apple ID</li>\n	<li>Set up Legacy Users to download your Google data</li>\n	<li>Creating a secure inventory of your digital assets</li>\n	<li>Best practices for passwords\, access\, and documentation</li>\n	<li>How to incorporate digital assets into your estate plan</li>\n</ul>\n\n<h2 style="font-style:normal\; text-align:start"><strong>Take Home:</strong></h2>\n\n<ul>\n	<li>Digital Legacy Letter Templates</li>\n	<li>Email templates</li>\n	<li>Checklist for Senior</li>\n	<li>Checklist for Loved Ones</li>\n	<li>Guide to obtaining a Death Certificate</li>\n	<li>Workbook for recording accounts and login details</li>\n	<li>Link to recording of presentation</li>\n</ul>\n\n<p style="text-align:start"><strong>Why It Matters:</strong><br />\nWithout a plan\, loved ones may struggle to access important information&mdash\;or may be unable to manage your accounts at all. Taking a few simple steps now can save time\, stress\, and uncertainty later.</p>\n\n<p style="text-align:start"><strong>Who Should Attend:</strong><br />\nAnyone who uses email\, social media\, cloud storage\, or online financial accounts&mdash\;and wants to make things easier for their family.</p>\n\n<h2 style="font-style:normal\; text-align:start"><strong>Bring:</strong></h2>\n\n<ul>\n	<li>A list of your digital accounts (if available)</li>\n	<li>Your questions about digital planning</li>\n</ul>\n\n<h2 style="font-style:normal\; text-align:start"><strong>Workshop Presenter:</strong><br />\nScott Yaffe\, SeniorCare Tech Trainer/Navigator</h2>\n\n<p style="text-align:start"><a href="https://form.jotform.com/261134594583058" style="box-sizing: inherit\; text-decoration: none\; overflow-wrap: break-word\; color: rgb(0\, 132\, 203)\; border-top-color: inherit\; border-right-color: inherit\; border-bottom: 1px dotted\; border-left-color: inherit\; transition: color 0.2s\;">Reserve your spot today online</a>&nbsp\;or call 978-281-1750 x-838!</p>\n\n<p style="text-align:start"><em>Take control of your digital legacy&mdash\;because your story doesn&rsquo\;t end offline.</em></p>\n
LOCATION:SeniorCare Inc.\, 49 Blackburn Center\, Gloucester\, MA
UID:e.2981.47080
SEQUENCE:3
DTSTAMP:20260424T222134Z
URL:https://business.capeannchamber.com/events/details/digital-legacy-workshop-47080
END:VEVENT

END:VCALENDAR
