BEGIN:VCALENDAR
VERSION:2.0
PRODID:-//ChamberMaster//Event Calendar 2.0//EN
METHOD:PUBLISH
X-PUBLISHED-TTL:P3D
REFRESH-INTERVAL:P3D
CALSCALE:GREGORIAN
BEGIN:VEVENT
DTSTART:20231229T150000Z
DTEND:20231229T210000Z
X-MICROSOFT-CDO-ALLDAYEVENT:FALSE
SUMMARY:Deck The Halls Holiday Celebration at Hammond Castle Museum
DESCRIPTION:Join us for the 2023 Holiday Season as we proudly present our fifth annual "Decks The Halls" holiday celebration! Delight in the enchanting ambiance of Christmas and White Birch trees\, meticulously arranged garlands\, festive wreaths\, and the warm embrace of candlelight that will envelop you throughout your tour of the Hammond Castle Museum. Immerse yourself in a bygone era of opulent tranquility and holiday grandeur that promises to be unlike any other experience on the North Shore.\n\n\n\nOur founder\, John Hays Hammond Jr. loved to entertain and welcomed noted guests from all around the world to his castle home. In keeping with that tradition\, we are offering guided and self-guided tours of Hammond's storybook residence this holiday season.\n\nCome savor the spirit of the holidays by exploring our museum and immerse yourself in a lost era of quiet luxury and holiday grandeur unlike any other on the North Shore.\n\n\n\n10:00 am   4:00 pm\, Last entrance: 3:15 pm\n\nWeekends: November 17   19\, 24   26\, December 1   3\, \n\nDaily: December 8-30th. (Closed on 12/24 & 12/25)\n\n \n\nAdults $20\, Seniors $15\, Kids 5- 12: $10\, and Little ones 4 & under are free with a ticket.\n\nHammond Castle Museum Members enjoy complimentary access to daytime tours\, including the Deck The Halls Holiday celebration.
X-ALT-DESC;FMTTYPE=text/html:<p><span style="font-family:tahoma"><span dir="ltr"><span style="font-size:12px"><tt><span style="color:windowtext">Join us for the 2023 Holiday Season as we proudly present our fifth annual &quot\;Decks The Halls&quot\; holiday celebration! Delight in the enchanting ambiance of Christmas and White Birch trees\, meticulously arranged garlands\, festive wreaths\, and the warm embrace of candlelight that will envelop you throughout your tour of the Hammond Castle Museum. Immerse yourself in a bygone era of opulent tranquility and holiday grandeur that promises to be unlike any other experience on the North Shore.</span><br />\n<br />\n<span style="color:black">Our founder\, John Hays Hammond Jr. loved to entertain and welcomed noted guests from all around the world to his castle home. In keeping with that tradition\, we are offering guided and self-guided tours of Hammond&rsquo\;s storybook residence this holiday season.</span><br />\n<span style="color:black">Come savor the spirit of the holidays by exploring our museum and immerse yourself in a lost era of quiet luxury and holiday grandeur unlike any other on the North Shore.</span><br />\n<br />\n<span style="color:windowtext">10:00 am &ndash\; 4:00 pm\, Last entrance: 3:15 pm</span><br />\n<span style="color:windowtext">Weekends: November 17 &ndash\; 19\, 24 &ndash\; 26\, December 1 &ndash\; 3\, </span><br />\n<span style="color:windowtext">Daily: December 8-30<sup>th</sup>. (Closed on 12/24 &amp\; 12/25)</span><br />\n&nbsp\;<br />\n<span style="color:windowtext">Adults $20\, Seniors $15\, Kids 5- 12: $10\, and Little ones 4 &amp\; under are free with a ticket.</span><br />\n<em><span style="color:black">Hammond Castle Museum Members enjoy complimentary access to daytime tours\, including the Deck The Halls Holiday celebration.</span></em></tt></span></span></span></p>\n
LOCATION:Hammond Castle Museum 80 Hesperus Avenue Gloucester\, MA
UID:e.2981.27027
SEQUENCE:3
DTSTAMP:20260421T215206Z
URL:https://business.capeannchamber.com/events/details/deck-the-halls-holiday-celebration-at-hammond-castle-museum-12-29-2023-27027
END:VEVENT

END:VCALENDAR
