BEGIN:VCALENDAR
VERSION:2.0
PRODID:-//ChamberMaster//Event Calendar 2.0//EN
METHOD:PUBLISH
X-PUBLISHED-TTL:P3D
REFRESH-INTERVAL:P3D
CALSCALE:GREGORIAN
BEGIN:VEVENT
DTSTART:20231221T230000Z
DTEND:20231222T010000Z
X-MICROSOFT-CDO-ALLDAYEVENT:FALSE
SUMMARY:Deck The Halls by Candlelight\, Evening Tours of Hammond Castle Museum
DESCRIPTION:Join us for our 5th annual Deck The Halls holiday celebration. Hammond Castle Museum will be dressed for the holidays inside and out.\n\n\n\nBegin your evening as you come upon our holiday illumination where twinkling holiday lights set the Castle and our iconic arches aglow. Then\, enter the Museum and delight in the enchanting ambiance of Christmas and White Birch trees\, meticulously arranged garlands\, festive wreaths\, and the warm embrace of candlelight that will envelop you throughout your tour of the Hammond Castle Museum. Immerse yourself in a bygone era of opulent tranquility and holiday grandeur that promises to be unlike any other experience on the North Shore.
X-ALT-DESC;FMTTYPE=text/html:<span style="color:#181818"><span style="font-size:12.0pt">Join us for our 5th annual Deck The Halls holiday celebration. Hammond Castle Museum will be dressed for the holidays inside and out.</span></span><br />\n<br />\n<span style="color:#181818"><span style="font-size:12.0pt">Begin your evening as you come upon our holiday illumination where twinkling holiday lights set the Castle and our iconic arches aglow. Then\, enter the Museum and delight in the enchanting ambiance of Christmas and White Birch trees\, meticulously arranged garlands\, festive wreaths\, and the warm embrace of candlelight that will envelop you throughout your tour of the Hammond Castle Museum. Immerse yourself in a bygone era of opulent tranquility and holiday grandeur that promises to be unlike any other experience on the North Shore.</span></span>
LOCATION:Hammond Castle Museum 80 Hesperus Avenue Gloucester\, MA 01930
UID:e.2981.26985
SEQUENCE:3
DTSTAMP:20260421T215245Z
URL:https://business.capeannchamber.com/events/details/deck-the-halls-by-candlelight-evening-tours-of-hammond-castle-museum-12-21-2023-26985
END:VEVENT

END:VCALENDAR
