BEGIN:VCALENDAR
VERSION:2.0
PRODID:-//ChamberMaster//Event Calendar 2.0//EN
METHOD:PUBLISH
X-PUBLISHED-TTL:P3D
REFRESH-INTERVAL:P3D
CALSCALE:GREGORIAN
BEGIN:VEVENT
DTSTART;VALUE=DATE:20201218
DTEND;VALUE=DATE:20201219
TRANSP:TRANSPARENT
X-MICROSOFT-CDO-ALLDAYEVENT:TRUE
SUMMARY:Deck The Halls at Hammond Castle Museum
DESCRIPTION:The holidays returned to Hammond Castle Museum! We've decked our halls and partnered with local small businesses to decorate the Castle.  This season's holiday room concepts are sponsored by:  All Purpose Flowers of Magnolia\, Garden Designs by Kristen\, Audrey's Flower Shop\, Harborside Interiors and Sage Floral Studio.\n\nWhile you're visiting the Museum\, shop the Museum Shop for unique specialty gifts for your entire holiday shopping list!\n\nThe Museum is open to the public on Fridays\, Saturdays and Sundays in December for guided tours. Museum hours are 10 am to 4 pm.  Social distancing and face mask are required for all who visit the Museum. Advance registration for both the Deck The Halls program and Santa Claus Returns To The Castle is required\, and tickets are only available online at hammondcastle.org.
X-ALT-DESC;FMTTYPE=text/html:<p>The holidays returned to Hammond Castle Museum! We&#39\;ve decked our halls and partnered with local small businesses to decorate the Castle. &nbsp\;This season&rsquo\;s holiday room concepts are sponsored by: &nbsp\;All Purpose Flowers of Magnolia\, Garden Designs by Kristen\, Audrey&rsquo\;s Flower Shop\, Harborside Interiors and Sage Floral Studio.</p>\n\n<p>While you&#39\;re visiting the Museum\, shop the Museum Shop for unique specialty gifts for your entire holiday shopping list!</p>\n\n<p>The Museum is open to the public on Fridays\, Saturdays and Sundays in December for guided tours. Museum hours are 10 am to 4 pm.&nbsp\; Social distancing and face mask are required for all who visit the Museum. Advance registration for both the&nbsp\;<em>Deck The Halls</em>&nbsp\;program and&nbsp\;<em>Santa Claus Returns To The Castle</em>&nbsp\;is required\, and tickets are only available online at&nbsp\;<a href="http://hammodcastle.org/" style="background-color: transparent\; box-sizing: border-box\; color: rgb(0\, 0\, 0)\; text-decoration-line: none\;">hammondcastle.org</a>.&nbsp\;</p>\n
LOCATION:Hammond Castle Museum 80 Hesperus Avenue Gloucester\, MA 01930
UID:e.2981.20433
SEQUENCE:3
DTSTAMP:20260419T195025Z
URL:https://business.capeannchamber.com/events/details/deck-the-halls-at-hammond-castle-museum-12-18-2020-20433
END:VEVENT

END:VCALENDAR
