BEGIN:VCALENDAR
VERSION:2.0
PRODID:-//ChamberMaster//Event Calendar 2.0//EN
METHOD:PUBLISH
X-PUBLISHED-TTL:P3D
REFRESH-INTERVAL:P3D
CALSCALE:GREGORIAN
BEGIN:VEVENT
DTSTART:20231209T150000Z
DTEND:20231209T230000Z
X-MICROSOFT-CDO-ALLDAYEVENT:FALSE
SUMMARY:Deck the Docks!!!
DESCRIPTION:Deck the Docks! \n\nMuseum store open 10am-4pm\n\nCrafts & Activities in the classroom for young children 10am-noon\n\nStory time 1:30pm\n\nArt Haven art 4pm-6pm\n\nCocoa and cookies before and after the tree lighting on our pier.
X-ALT-DESC;FMTTYPE=text/html:Deck the Docks!&nbsp\;<br />\nMuseum store open 10am-4pm<br />\nCrafts &amp\; Activities in the classroom for young children 10am-noon<br />\nStory time 1:30pm<br />\nArt Haven art 4pm-6pm<br />\nCocoa and cookies before and after the tree lighting on our pier.
LOCATION:Maritime Gloucester
UID:e.2981.26565
SEQUENCE:3
DTSTAMP:20260421T232339Z
URL:https://business.capeannchamber.com/events/details/deck-the-docks-12-09-2023-26565
END:VEVENT

END:VCALENDAR
