BEGIN:VCALENDAR
VERSION:2.0
PRODID:-//ChamberMaster//Event Calendar 2.0//EN
METHOD:PUBLISH
X-PUBLISHED-TTL:P3D
REFRESH-INTERVAL:P3D
CALSCALE:GREGORIAN
BEGIN:VEVENT
DTSTART:20251116T130000Z
DTEND:20251116T150000Z
X-MICROSOFT-CDO-ALLDAYEVENT:FALSE
SUMMARY:DCR Halibut Point Fall Birding Walk
DESCRIPTION:Stroll our seaside treasure with birding basics
X-ALT-DESC;FMTTYPE=text/html:Stroll our seaside treasure with birding basics
LOCATION:Meet at parking area at Halibut State Park Parking lot Heavy rain cancels the event
UID:e.2981.45174
SEQUENCE:3
DTSTAMP:20260425T034847Z
URL:https://business.capeannchamber.com/events/details/dcr-halibut-point-fall-birding-walk-45174
END:VEVENT

END:VCALENDAR
