BEGIN:VCALENDAR
VERSION:2.0
PRODID:-//ChamberMaster//Event Calendar 2.0//EN
METHOD:PUBLISH
X-PUBLISHED-TTL:P3D
REFRESH-INTERVAL:P3D
CALSCALE:GREGORIAN
BEGIN:VEVENT
DTSTART:20140615T000000Z
DTEND:20140615T000000Z
X-MICROSOFT-CDO-ALLDAYEVENT:FALSE
SUMMARY:David Deveau & Friends
DESCRIPTION:Rockport Music's Artistic Director is joined by Festival favorites violinist Andrés Cárdenes\, violist Yinzi Kong and cellist Sophie Shao for a program of works by Beethoven\, Francaix and Fauré.    Tickets: $68/$58/$49
X-ALT-DESC;FMTTYPE=text/html:Rockport Music's Artistic Director is joined by Festival favorites violinist Andrés Cárdenes\, violist Yinzi Kong and cellist Sophie Shao for a program of works by Beethoven\, Francaix and Fauré.    Tickets: $68/$58/$49
LOCATION:Shalin Liu Performance Center\, Rockport\, Ma 01966
UID:e.2981.1268
SEQUENCE:3
DTSTAMP:20260419T174810Z
URL:https://business.capeannchamber.com/events/details/david-deveau-friends-06-14-2014-1268
END:VEVENT

END:VCALENDAR
