BEGIN:VCALENDAR
VERSION:2.0
PRODID:-//ChamberMaster//Event Calendar 2.0//EN
METHOD:PUBLISH
X-PUBLISHED-TTL:P3D
REFRESH-INTERVAL:P3D
CALSCALE:GREGORIAN
BEGIN:VEVENT
DTSTART:20241206T010000Z
DTEND:20241206T030000Z
X-MICROSOFT-CDO-ALLDAYEVENT:FALSE
SUMMARY:David Benoit's Charlie Brown Christmas
DESCRIPTION:An unforgettable pairing of jazz and the holidays arrives in Rockport as the phenomenal pianist David Benoit returns with his heartwarming Charlie Brown Christmas concert! Get in the yuletide spirit as Benoit and his band pay homage to Vince Guaraldi's iconic soundtrack.
X-ALT-DESC;FMTTYPE=text/html:<span style="font-size:14px"><span style="background-color:rgb(250\, 250\, 250)\; color:rgb(0\, 0\, 0)\; font-family:open sans\,helvetica neue\,helvetica\,arial\,sans-serif">An unforgettable pairing of jazz and the holidays arrives in Rockport as the phenomenal pianist David Benoit returns with his heartwarming&nbsp\;</span><em>Charlie Brown Christmas</em><span style="background-color:rgb(250\, 250\, 250)\; color:rgb(0\, 0\, 0)\; font-family:open sans\,helvetica neue\,helvetica\,arial\,sans-serif">&nbsp\;concert! Get in the yuletide spirit as Benoit and his band pay homage to Vince Guaraldi&rsquo\;s iconic soundtrack.</span></span>
LOCATION:37 Main St\, Rockport\, MA 01966
UID:e.2981.33163
SEQUENCE:3
DTSTAMP:20260424T152621Z
URL:https://business.capeannchamber.com/events/details/david-benoit-s-charlie-brown-christmas-33163
END:VEVENT

END:VCALENDAR
