BEGIN:VCALENDAR
VERSION:2.0
PRODID:-//ChamberMaster//Event Calendar 2.0//EN
METHOD:PUBLISH
X-PUBLISHED-TTL:P3D
REFRESH-INTERVAL:P3D
CALSCALE:GREGORIAN
BEGIN:VEVENT
DTSTART:20250309T010000Z
DTEND:20250309T030000Z
X-MICROSOFT-CDO-ALLDAYEVENT:FALSE
SUMMARY:Danú
DESCRIPTION:St. Patrick's Day celebrations start early this year in Rockport with a returning favorite\, Dan ! Hailing from historic County Waterford\, Dan  is one of Ireland's most cherished Irish folk bands and among the leaders of the new traditionalist movement in Celtic music. They have been thrilling audiences with their instrumental virtuosity\, high-energy performances and a glorious mix of ancient Irish music and new repertoire for more than 25 years.
X-ALT-DESC;FMTTYPE=text/html:<p><span style="background-color:rgb(250\, 250\, 250)\; color:rgb(0\, 0\, 0)\; font-family:open sans\,helvetica neue\,helvetica\,arial\,sans-serif\; font-size:18px">St. Patrick&#39\;s Day celebrations start early this year in Rockport with a returning favorite\, Dan&uacute\;! Hailing from historic County Waterford\, Dan&uacute\; is one of Ireland&rsquo\;s most cherished Irish folk bands and among the leaders of the new traditionalist movement in Celtic music. They have been thrilling audiences with their instrumental virtuosity\, high-energy performances and a glorious mix of ancient Irish music and new repertoire for more than 25 years.</span></p>\n
LOCATION:37 Main St\, Rockport\, MA 01966
UID:e.2981.35036
SEQUENCE:3
DTSTAMP:20260424T122854Z
URL:https://business.capeannchamber.com/events/details/dan&#250;-35036
END:VEVENT

END:VCALENDAR
