BEGIN:VCALENDAR
VERSION:2.0
PRODID:-//ChamberMaster//Event Calendar 2.0//EN
METHOD:PUBLISH
X-PUBLISHED-TTL:P3D
REFRESH-INTERVAL:P3D
CALSCALE:GREGORIAN
BEGIN:VEVENT
DTSTART:20250914T180000Z
DTEND:20250914T200000Z
X-MICROSOFT-CDO-ALLDAYEVENT:FALSE
SUMMARY:Crystal Wire Wrapping Course
DESCRIPTION:Guest teacher and local jewelry maker comes to Apothecary Suil Crow!!! Unleash your creativity with our Crystal Points Wire Wrapping Course! Dive into the world of unique jewelry making using natural materials and innovative techniques that will ignite your passion for crafting. Discover the art of wire wrapping as you transform beautiful crystal points into stunning pendants that radiate charm and elegance. Elevate your accessory game and create one-of-a-kind pieces that reflect your style and personality. Join us on this artistic journey and craft exquisite jewelry that will leave everyone in awe. Enroll now and unlock the secrets to designing breathtaking pieces that capture the essence of nature.
X-ALT-DESC;FMTTYPE=text/html:<p>Guest teacher and local jewelry maker comes to Apothecary Suil Crow!!! Unleash your creativity with our Crystal Points Wire Wrapping Course! Dive into the world of unique jewelry making using natural materials and innovative techniques that will ignite your passion for crafting. Discover the art of wire wrapping as you transform beautiful crystal points into stunning pendants that radiate charm and elegance. Elevate your accessory game and create one-of-a-kind pieces that reflect your style and personality. Join us on this artistic journey and craft exquisite jewelry that will leave everyone in awe. Enroll now and unlock the secrets to designing breathtaking pieces that capture the essence of nature.</p>\n
LOCATION:Apothecary Suil Crow 9 Whistlestop Mall Rockport MA 01966
UID:e.2981.36601
SEQUENCE:3
DTSTAMP:20260422T091102Z
URL:https://business.capeannchamber.com/events/details/crystal-wire-wrapping-course-36601
END:VEVENT

END:VCALENDAR
