BEGIN:VCALENDAR
VERSION:2.0
PRODID:-//ChamberMaster//Event Calendar 2.0//EN
METHOD:PUBLISH
X-PUBLISHED-TTL:P3D
REFRESH-INTERVAL:P3D
CALSCALE:GREGORIAN
BEGIN:VEVENT
DTSTART:20250823T180000Z
DTEND:20250823T200000Z
X-MICROSOFT-CDO-ALLDAYEVENT:FALSE
SUMMARY:Crystal Growing Course
DESCRIPTION:Embark on a mesmerizing journey of self-discovery with our Crystal Making Course! Discover the enchanting world of crystals and unlock their healing properties as you immerse yourself in creating stunning\, aesthetically pleasing crystal masterpieces. Our easy-to-follow tutorials will guide you every step of the way\, making the process both enjoyable and educational. Delve into the realm of crystal crafting and witness the beauty and magic unfold before your eyes. Join us now and let your creativity shine through the magnificent art of crystal making!\n\nYou will learn how to make uneatable real crystals and also edible sugar crystals (also known as rock candy)\n\nThis course is a great course for children as well! In fact each participant can bring one child with them for FREE (age 6-10 years old)\, book your seat today and bring your little one with you to witness the magic of crystal making!
X-ALT-DESC;FMTTYPE=text/html:<p>Embark on a mesmerizing journey of self-discovery with our Crystal Making Course! Discover the enchanting world of crystals and unlock their healing properties as you immerse yourself in creating stunning\, aesthetically pleasing crystal masterpieces. Our easy-to-follow tutorials will guide you every step of the way\, making the process both enjoyable and educational. Delve into the realm of crystal crafting and witness the beauty and magic unfold before your eyes. Join us now and let your creativity shine through the magnificent art of crystal making!</p>\n\n<p>You will learn how to make uneatable real crystals and also edible sugar crystals (also known as rock candy)</p>\n\n<p>This course is a great course for children as well! In fact each participant can bring one child with them for FREE (age 6-10 years old)\, book your seat today and bring your little one with you to witness the magic of crystal making!</p>\n
LOCATION:
UID:e.2981.36605
SEQUENCE:3
DTSTAMP:20260424T235050Z
URL:https://business.capeannchamber.com/events/details/crystal-growing-course-36605
END:VEVENT

END:VCALENDAR
