BEGIN:VCALENDAR
VERSION:2.0
PRODID:-//ChamberMaster//Event Calendar 2.0//EN
METHOD:PUBLISH
X-PUBLISHED-TTL:P3D
REFRESH-INTERVAL:P3D
CALSCALE:GREGORIAN
BEGIN:VEVENT
DTSTART:20260207T003000Z
DTEND:20260207T030000Z
X-MICROSOFT-CDO-ALLDAYEVENT:FALSE
SUMMARY:Crys Matthews - Thea Hopkins opens
DESCRIPTION:Crys Matthews\, a bright star of the new generation of social justice music-makers\, will appear at the Old Sloop Presents performing arts series Friday\, February 6. Aquinnah Wampanoag tribe member Thea Hopkins will open the show.\n\nHailed as "the next Woody Guthrie\," Nashville resident Crys Matthews is a powerful lyricist whose songs of compassionate dissent reflect her lived experience as what she lightheartedly calls "the poster child for intersectionality\," Justin Hiltner of Bluegrass Situation called Matthews's gift "a reminder of what beauty can occur when we bridge those divides." Matthews hopes to take her place alongside some of her heroes in the world of social-justice music like Sweet Honey in the Rock and Holly Near. ASCAP VP & Creative Director Eric Philbrook says\, "By wrapping honest emotions around her socially conscious messages and dynamically delivering them with a warm heart and a strong voice\, she lifts our spirits just when we need it most in these troubled times."\n\nPerforming songwriter Thea Hopkins calls her music "Red Roots Americana". She has been described as a "standout writer" by the Washington Post. The New York Stage and Film Fund selected Hopkins as a 2025 and 2024\, "Indigenous Voices of The Northeast" artist resident in support of her play\, "An American Ghost Dance". October 2024 saw Thea at WOMEX Manchester (UK)\, as a Western Arts Alliance US artist delegate. In Spring 2024\, she was selected to attend the First Nations gathering and the ISPA Congress in Perth\, Australia as a Western Arts Alliance artist delegate.
X-ALT-DESC;FMTTYPE=text/html:<span style="font-family:times new roman\,serif"><span style="font-size:12.0pt"><a href="https://www.crysmatthews.com/" target="_blank">Crys Matthews</a>\, a bright star of the new generation of social justice music-makers\, will appear at the Old Sloop Presents performing arts series Friday\, February 6. Aquinnah Wampanoag tribe member <a href="https://www.theahopkins.com/" target="_blank">Thea Hopkins</a> will open the show.</span></span><br />\n<span style="font-family:times new roman\,serif"><span style="font-size:12.0pt">Hailed as &ldquo\;the next Woody Guthrie\,&rdquo\; Nashville resident Crys Matthews is a powerful lyricist whose songs of compassionate dissent reflect her lived experience as what she lightheartedly calls &ldquo\;the poster child for intersectionality\,&rdquo\; Justin Hiltner of Bluegrass Situation called Matthews&rsquo\;s gift &ldquo\;a reminder of what beauty can occur when we bridge those divides.&rdquo\; Matthews hopes to take her place alongside some of her heroes in the world of social-justice music like Sweet Honey in the Rock and Holly Near. ASCAP VP &amp\; Creative Director Eric Philbrook says\, &ldquo\;By wrapping honest emotions around her socially conscious messages and dynamically delivering them with a warm heart and a strong voice\, she lifts our spirits just when we need it most in these troubled times.&rdquo\;</span></span><br />\n<span style="font-family:times new roman\,serif"><span style="font-size:12.0pt">Performing songwriter Thea Hopkins calls her music &ldquo\;Red Roots Americana&rdquo\;. She has been described as a &ldquo\;standout writer&rdquo\; by the Washington Post. The New York Stage and Film Fund selected Hopkins as a 2025 and 2024\, &ldquo\;Indigenous Voices of The Northeast&rdquo\; artist resident in support of her play\, &ldquo\;An American Ghost Dance&rdquo\;. October 2024 saw Thea at WOMEX Manchester (UK)\, as a Western Arts Alliance US artist delegate. In Spring 2024\, she was selected to attend the First Nations gathering and the ISPA Congress in Perth\, Australia as a Western Arts Alliance artist delegate.</span></span>
LOCATION:First Congregational Church 12 School Street Rockport\, MA 01966
UID:e.2981.46119
SEQUENCE:3
DTSTAMP:20260425T135207Z
URL:https://business.capeannchamber.com/events/details/crys-matthews-thea-hopkins-opens-46119
END:VEVENT

END:VCALENDAR
