BEGIN:VCALENDAR
VERSION:2.0
PRODID:-//ChamberMaster//Event Calendar 2.0//EN
METHOD:PUBLISH
X-PUBLISHED-TTL:P3D
REFRESH-INTERVAL:P3D
CALSCALE:GREGORIAN
BEGIN:VEVENT
DTSTART;VALUE=DATE:20140727
DTEND;VALUE=DATE:20140728
TRANSP:TRANSPARENT
X-MICROSOFT-CDO-ALLDAYEVENT:TRUE
SUMMARY:''Cruise for Schools'' on the Beauport Princess
DESCRIPTION:The Gloucester Education Foundation's (GEF) 2014 summer fundraiser\, "Cruise for Schools" is coming Sunday\, July 27\, 2014 from 5-8pm. The event will be a three-hour sunset cruise aboard the Beauport Princess\, docked at Cruiseport Gloucester\, in downtown Gloucester.   Highlighting the event will be entertainment\nby Gloucester musician Steve Caraway\, who is donating his talents to support\nthe schools.  The evening will also feature the world debut of the Gloucester District Staff All-Star Band\, a musical group of teachers and administrators from the Gloucester Public Schools.  Raffles\, passed-h'ors d'oeuvres and a cash bar will complete the evening.Tickets are $75 and can be purchased by contacting GEF at 978.282.5550 or by visiting www.ThinktheBest.org.
X-ALT-DESC;FMTTYPE=text/html:<p style="margin:0in 0in 0pt 1in\;text-align:left\;"><span style="color:black\;font-family:'Arial'\,'sans-serif'\;font-size:10pt\;">The Gloucester Education Foundation&rsquo\;s (GEF) 2014 summer fundraiser\, &ldquo\;Cruise for Schools&rdquo\; is coming Sunday\, July 27\, 2014 from 5-8pm<span>. The event will be a three-hour sunset cruise aboard the Beauport Princess\, docked at Cruiseport Gloucester\, in downtown Gloucester.<span>&nbsp\; </span><span>&nbsp\;</span>Highlighting the event will be entertainment\nby Gloucester musician Steve Caraway\, who is donating his talents to support\nthe schools.<span>&nbsp\; </span>The evening will also feature the world debut of the Gloucester District Staff All-Star Band\, a musical group of teachers and administrators from the Gloucester Public Schools.<span>&nbsp\; </span>Raffles\, passed-h&rsquo\;ors d&rsquo\;oeuvres and a cash bar will complete the evening.</span></span></p><p style="margin:0in 0in 0pt\;"></p><p style="margin:0in 0in 0pt 1in\;text-align:left\;"><span style="color:black\;font-family:'Arial'\,'sans-serif'\;font-size:10pt\;">Tickets are $75 and can be purchased by contacting GEF at 978.282.5550 or by visiting </span><a href="http://www.ThinktheBest.org"><span style="font-family:'Arial'\,'sans-serif'\;font-size:10pt\;">www.ThinktheBest.org</span></a><span style="color:black\;font-family:'Arial'\,'sans-serif'\;font-size:10pt\;">.</span></p>
LOCATION:
UID:e.2981.1433
SEQUENCE:3
DTSTAMP:20260419T155221Z
URL:https://business.capeannchamber.com/events/details/cruise-for-schools-on-the-beauport-princess-07-27-2014-1433
END:VEVENT

END:VCALENDAR
