BEGIN:VCALENDAR
VERSION:2.0
PRODID:-//ChamberMaster//Event Calendar 2.0//EN
METHOD:PUBLISH
X-PUBLISHED-TTL:P3D
REFRESH-INTERVAL:P3D
CALSCALE:GREGORIAN
BEGIN:VEVENT
DTSTART:20251015T230000Z
DTEND:20251016T020000Z
X-MICROSOFT-CDO-ALLDAYEVENT:FALSE
SUMMARY:Crow Ball!
DESCRIPTION:Common Crow's 25th Anniversary Ball!\n\n\n\nEnjoy Live Music\, Light Fare\, Dancing and most of all Community!\n\n\n\nFeaturing:\n\nJoe Wilkins & The Beauport Bluegrass Boys\n\nwith Brian King and Deb Hardy\n\n\n\nProceeds Benefitting North Shore Health Project!\n\n\n\nCreative Dress/Costumes Encouraged\, Anything Goes! \n\n\n\nCash Bar with light fare provided by Talise and desserts by Common Crow and Kim's Pure Pastries
X-ALT-DESC;FMTTYPE=text/html:<span style="font-size:20px\;"><strong><span style="color:#FF8C00\;">Common Crow&#39\;s 25th Anniversary Ball!</span></strong></span><br />\n<br />\n<strong><span style="font-size:16px\;">Enjoy Live Music\, Light Fare\, Dancing and most of all Community!</span></strong><br />\n<br />\n<em>Featuring:</em><br />\nJoe Wilkins &amp\; The Beauport Bluegrass Boys<br />\nwith Brian King and Deb Hardy<br />\n<br />\n<span style="font-family:tahoma\;"><strong>Proceeds Benefitting North Shore Health Project!</strong></span><br />\n<br />\n<span style="color:#FF8C00\;">Creative Dress/Costumes Encouraged\, Anything Goes!&nbsp\;</span><br />\n<br />\nCash Bar with light fare provided by Talise and desserts by Common Crow and Kim&#39\;s Pure Pastries<br />\n<br />\n&nbsp\;
LOCATION:The Cut
UID:e.2981.43048
SEQUENCE:3
DTSTAMP:20260425T023157Z
URL:https://business.capeannchamber.com/events/details/crow-ball-43048
END:VEVENT

END:VCALENDAR
