BEGIN:VCALENDAR
VERSION:2.0
PRODID:-//ChamberMaster//Event Calendar 2.0//EN
METHOD:PUBLISH
X-PUBLISHED-TTL:P3D
REFRESH-INTERVAL:P3D
CALSCALE:GREGORIAN
BEGIN:VEVENT
DTSTART:20221022T220000Z
DTEND:20221023T000000Z
X-MICROSOFT-CDO-ALLDAYEVENT:FALSE
SUMMARY:"Crossroads" Wrap Party
DESCRIPTION:Come together to celebrate the end of "Crossroads" Essex!\n\n \n\nThe story of our small town is too big to capture in six weeks of programming. We covered as much as possible but are excited to keep exploring. Join us in continuing this conversation into the future as we learn from our past and enjoy our present!\n\n \n\nEnjoy hors d'oeuvres from the Shipyard Grille and drinks from the Basin Bar.
X-ALT-DESC;FMTTYPE=text/html:<p>Come together to celebrate the end of &quot\;Crossroads&quot\; Essex!</p>\n\n<p>&nbsp\;</p>\n\n<p>The story of our small town is too big to capture in six weeks of programming. We covered as much as possible but are excited to keep exploring. Join us in continuing this conversation into the future as we learn from our past and enjoy our present!</p>\n\n<p>&nbsp\;</p>\n\n<p>Enjoy hors d&#39\;oeuvres from the Shipyard Grille and drinks from the Basin Bar.</p>\n
LOCATION:The Waterline Center 66 Main Street Essex\, MA 01929
UID:e.2981.23006
SEQUENCE:3
DTSTAMP:20260424T140701Z
URL:https://business.capeannchamber.com/events/details/crossroads-wrap-party-23006
END:VEVENT

END:VCALENDAR
