BEGIN:VCALENDAR
VERSION:2.0
PRODID:-//ChamberMaster//Event Calendar 2.0//EN
METHOD:PUBLISH
X-PUBLISHED-TTL:P3D
REFRESH-INTERVAL:P3D
CALSCALE:GREGORIAN
BEGIN:VEVENT
DTSTART:20221016T140000Z
DTEND:20221016T160000Z
X-MICROSOFT-CDO-ALLDAYEVENT:FALSE
SUMMARY:"Crossroads" Sketching Through History
DESCRIPTION:Registration Required. The scenic vistas of Essex have changed very little throughout the years. Guests will get the chance to take a tour through time with Slow River Studio taking historic photos\, drawings\, and paintings\, and sketching them from the same perspective in the modern day. What has changed? What has stayed the same? What emotions are evoked by the historic references? How have those feelings changed? This activation will be led by Jessica Yurwitz of Slow River Studio.
X-ALT-DESC;FMTTYPE=text/html:<p><span style="font-size:10pt">Registration Required. </span><span style="font-size:10pt">The scenic vistas of Essex have changed very little throughout the years. Guests will get the chance to take a tour through time with Slow River Studio taking historic photos\, drawings\, and paintings\, and sketching them from the same perspective in the modern day. What has changed? What has stayed the same? What emotions are evoked by the historic references? How have those feelings changed? This activation will be led by Jessica Yurwitz of Slow River Studio.</span></p>\n
LOCATION:Meet at 6 Main Street Essex\, MA 01929 Out and around the Crossroads of Essex.
UID:e.2981.22995
SEQUENCE:3
DTSTAMP:20260424T123648Z
URL:https://business.capeannchamber.com/events/details/crossroads-sketching-through-history-10-16-2022-22995
END:VEVENT

END:VCALENDAR
