BEGIN:VCALENDAR
VERSION:2.0
PRODID:-//ChamberMaster//Event Calendar 2.0//EN
METHOD:PUBLISH
X-PUBLISHED-TTL:P3D
REFRESH-INTERVAL:P3D
CALSCALE:GREGORIAN
BEGIN:VEVENT
DTSTART:20221002T140000Z
DTEND:20221002T160000Z
X-MICROSOFT-CDO-ALLDAYEVENT:FALSE
SUMMARY:"Crossroads" Our Family Forest
DESCRIPTION:EHSSM Historian Kurt Wilhelm has collected genealogical information about Essex families for over 30 years. Through this hands-on discussion\, guests will have the opportunity to look at the community of Essex through the lens of the families that have lived here\, view primary source documents and add their family tree to the forest of Essex.
X-ALT-DESC;FMTTYPE=text/html:<p>&nbsp\;EHSSM Historian&nbsp\;<span style="font-size:10pt">Kurt Wilhelm has collected genealogical information about Essex families for over 30 years. Through this hands-on discussion\, guests will have the opportunity to look at the community of Essex through the lens of the families that have lived here\, view primary source documents and add their family tree to the forest of Essex.</span></p>\n
LOCATION:The Waterline Center 66 Main Street Essex\, MA 01929
UID:e.2981.23002
SEQUENCE:3
DTSTAMP:20260424T123749Z
URL:https://business.capeannchamber.com/events/details/crossroads-our-family-forest-23002
END:VEVENT

END:VCALENDAR
