BEGIN:VCALENDAR
VERSION:2.0
PRODID:-//ChamberMaster//Event Calendar 2.0//EN
METHOD:PUBLISH
X-PUBLISHED-TTL:P3D
REFRESH-INTERVAL:P3D
CALSCALE:GREGORIAN
BEGIN:VEVENT
DTSTART:20221020T230000Z
DTEND:20221021T003000Z
X-MICROSOFT-CDO-ALLDAYEVENT:FALSE
SUMMARY:"Crossroads" Community Conversation
DESCRIPTION:Registration Required. While it may be just a small town with a population of 3\,504\, a strong sense of community pulses through all 26 miles of this coastal destination. During these three separate\, private focus groups\, The Town of Essex will evaluate what cultural institutions mean to the community and how each organization can create a larger impact.
X-ALT-DESC;FMTTYPE=text/html:<p><span style="font-size:10pt">Registration Required. </span><span style="font-size:10pt">While it may be just a small town with a population of 3\,504\, a strong sense of community pulses through all 26 miles of this coastal destination. During these three separate\, private focus groups\, The Town of Essex will evaluate what cultural institutions mean to the community and how each organization can create a larger impact.&nbsp\;</span></p>\n
LOCATION:The Waterline Center 66 Main Street Essex\, MA 01929
UID:e.2981.22998
SEQUENCE:3
DTSTAMP:20260424T123648Z
URL:https://business.capeannchamber.com/events/details/crossroads-community-conversation-10-20-2022-22998
END:VEVENT

END:VCALENDAR
