BEGIN:VCALENDAR
VERSION:2.0
PRODID:-//ChamberMaster//Event Calendar 2.0//EN
METHOD:PUBLISH
X-PUBLISHED-TTL:P3D
REFRESH-INTERVAL:P3D
CALSCALE:GREGORIAN
BEGIN:VEVENT
DTSTART:20221003T160000Z
DTEND:20221003T180000Z
X-MICROSOFT-CDO-ALLDAYEVENT:FALSE
SUMMARY:"Crossroads" CAPA Painting Demo
DESCRIPTION:Want to paint en plein air like a pro? A selection of local artists will become your instructor of painting during Cape Ann Plein Air Week which is being held October 1 - 9\, 2022. Each demonstration is free to attend\, sharing the knowledge and experience of painting outdoors!\n\nA lifelong resident of Massachusetts\, Mary is a classically trained artist working in several genres. She is primarily an oil painter with concentrations in portrait\, landscape\, marine and still life paintings. Her paintings and commission works are done in both oil and acrylic with a wide variety of options from gallery wrap to gilded framing. The paintings are often done from life and may also be done from high quality photographs and field studies when desired. In pursuit of her artistic training Mary Rose had many years of formal training in the Boston School tradition. Mary Rose's work shows the benefit of a strong grounding in draftsmanship and design. This style of painting is done in natural light and is influenced by the beautiful colors of the Impressionists.
X-ALT-DESC;FMTTYPE=text/html:<p>Want to paint en plein air like a pro? A selection of local artists will become your instructor of painting during Cape Ann Plein Air Week which is being held October 1 - 9\, 2022. Each demonstration is free to attend\, sharing the knowledge and experience of painting outdoors!</p>\n\n<p>A lifelong resident of Massachusetts\, Mary is a classically trained artist working in several genres. She is primarily an oil painter with concentrations in portrait\, landscape\, marine and still life paintings. Her paintings and commission works are done in both oil and acrylic with a wide variety of options from gallery wrap to gilded framing. The paintings are often done from life and may also be done from high quality photographs and field studies when desired. In pursuit of her artistic training Mary Rose had many years of formal training in the Boston School tradition. Mary Rose&rsquo\;s work shows the benefit of a strong grounding in draftsmanship and design. This style of painting is done in natural light and is influenced by the beautiful colors of the Impressionists.</p>\n
LOCATION:The Shipyard 66 Main Street Essex\, MA 01929
UID:e.2981.23005
SEQUENCE:3
DTSTAMP:20260424T141013Z
URL:https://business.capeannchamber.com/events/details/crossroads-capa-painting-demo-23005
END:VEVENT

END:VCALENDAR
