BEGIN:VCALENDAR
VERSION:2.0
PRODID:-//ChamberMaster//Event Calendar 2.0//EN
METHOD:PUBLISH
X-PUBLISHED-TTL:P3D
REFRESH-INTERVAL:P3D
CALSCALE:GREGORIAN
BEGIN:VEVENT
DTSTART:20221004T230000Z
DTEND:20221005T000000Z
X-MICROSOFT-CDO-ALLDAYEVENT:FALSE
SUMMARY:"Crossroads" A Piece of Something Great - The Story of the Marsh
DESCRIPTION:During this lecture\, guests will learn about the Great Marsh and how this important ecosystem has impacted the Essex community throughout history into the present day. The main topic of conversation will be centered around what we can do to preserve this resource for the future and will be led by Peter Phippen\, Essex town selectman and member of the Great Marsh Coalition.
X-ALT-DESC;FMTTYPE=text/html:<p><span style="font-size:10pt">During this lecture\, guests will learn about the Great Marsh and how this important ecosystem has impacted the Essex community throughout history into the present day. The main topic of conversation will be centered around what we can do to preserve this resource for the future and will be led by Peter Phippen\, Essex town selectman and member of the Great Marsh Coalition.&nbsp\;&nbsp\;&nbsp\;&nbsp\;</span></p>\n
LOCATION:The Waterline Center 66 Main Street Essex\, MA 01929
UID:e.2981.23003
SEQUENCE:3
DTSTAMP:20260424T124134Z
URL:https://business.capeannchamber.com/events/details/crossroads-a-piece-of-something-great-the-story-of-the-marsh-23003
END:VEVENT

END:VCALENDAR
