BEGIN:VCALENDAR
VERSION:2.0
PRODID:-//ChamberMaster//Event Calendar 2.0//EN
METHOD:PUBLISH
X-PUBLISHED-TTL:P3D
REFRESH-INTERVAL:P3D
CALSCALE:GREGORIAN
BEGIN:VEVENT
DTSTART:20250831T180000Z
DTEND:20250831T210000Z
X-MICROSOFT-CDO-ALLDAYEVENT:FALSE
SUMMARY:Crescent Moon Prism Course
DESCRIPTION:Embark on a transformative journey with the Moon Prism Course\, where magical powers\, mystery\, and adventure await. Uncover the empowering message hidden within each lesson\, guiding you towards self-discovery and personal growth. Enroll now and unlock the secrets of the Moon Prism Course!\n\nYou will be working with copper wire\, prisms\, clear quartz crystals and Fluorite Crystal Beads\n\nOnly 4 seats available
X-ALT-DESC;FMTTYPE=text/html:<p>Embark on a transformative journey with the Moon Prism Course\, where magical powers\, mystery\, and adventure await. Uncover the empowering message hidden within each lesson\, guiding you towards self-discovery and personal growth. Enroll now and unlock the secrets of the Moon Prism Course!</p>\n\n<p>You will be working with copper wire\, prisms\, clear quartz crystals and Fluorite Crystal Beads</p>\n\n<p>Only 4 seats available&nbsp\;</p>\n
LOCATION:Apothecary Suil Crow 9 Whistlestop Mall Rockport MA 01966
UID:e.2981.36602
SEQUENCE:3
DTSTAMP:20260424T235049Z
URL:https://business.capeannchamber.com/events/details/crescent-moon-prism-course-36602
END:VEVENT

END:VCALENDAR
