BEGIN:VCALENDAR
VERSION:2.0
PRODID:-//ChamberMaster//Event Calendar 2.0//EN
METHOD:PUBLISH
X-PUBLISHED-TTL:P3D
REFRESH-INTERVAL:P3D
CALSCALE:GREGORIAN
BEGIN:VEVENT
DTSTART:20250726T180000Z
DTEND:20250726T200000Z
X-MICROSOFT-CDO-ALLDAYEVENT:FALSE
SUMMARY:Crescent Moon Familiar Wreath Course
DESCRIPTION:Saturday July 26th 2pm\n\n\n\nWelcome to the enchanting world of the Crescent Moon Cat Wreath Course! Dive into a realm of whimsical design where creativity knows no bounds. Unleash your artistic flair with step-by-step instructions that will guide you through crafting a one-of-a-kind piece of unique home decor. Let your imagination soar as you bring to life a charming feline-inspired wreath that will captivate all who lay eyes on it. Elevate your living space with a touch of magic and charm. Join the course now and embark on a crafting adventure like no other!\n\nYou will be working with:\n\nBurlap\n\nPrisms\n\nMetal cat\n\nGlue gun\n\nReal dried flowers\n\nArtificial ivy \n\nReal dried moss
X-ALT-DESC;FMTTYPE=text/html:<p><u><em><strong>Saturday July 26th 2pm</strong></em></u></p>\n\n<p><br />\nWelcome to the enchanting world of the Crescent Moon Cat Wreath Course! Dive into a realm of whimsical design where creativity knows no bounds. Unleash your artistic flair with step-by-step instructions that will guide you through crafting a one-of-a-kind piece of unique home decor. Let your imagination soar as you bring to life a charming feline-inspired wreath that will captivate all who lay eyes on it. Elevate your living space with a touch of magic and charm. Join the course now and embark on a crafting adventure like no other!</p>\n\n<p>You will be working with:<br />\nBurlap<br />\nPrisms<br />\nMetal cat<br />\nGlue gun<br />\nReal dried flowers<br />\nArtificial ivy&nbsp\;<br />\nReal dried moss</p>\n
LOCATION:Apothecary Suil Crow 9 Whistlestop Mall Rockport MA 01966
UID:e.2981.36580
SEQUENCE:3
DTSTAMP:20260424T222927Z
URL:https://business.capeannchamber.com/events/details/crescent-moon-familiar-wreath-course-36580
END:VEVENT

END:VCALENDAR
