BEGIN:VCALENDAR
VERSION:2.0
PRODID:-//ChamberMaster//Event Calendar 2.0//EN
METHOD:PUBLISH
X-PUBLISHED-TTL:P3D
REFRESH-INTERVAL:P3D
CALSCALE:GREGORIAN
BEGIN:VEVENT
DTSTART:20260131T143000Z
DTEND:20260131T203000Z
X-MICROSOFT-CDO-ALLDAYEVENT:FALSE
SUMMARY:Creating Excitement In Your Paintings - Workshop with KT Morse\, Rockport Art Association & Museum
DESCRIPTION:Creating Excitement In Your Paintings - Workshop with KT Morse\n\nJoin KT Morse in analyzing the nuances of composition\, color\, and blocking-in\, and build visual excitement in your work every step of the way. This one-day workshop starts with a demonstration focusing on cropping and enhancing a digital image to maximize the composition before starting. Then the focus on color transparency for mazimum impact in the block-in phase sets the stage for increased drama in the finished piece.\n\n\n\nAll skill levels welcome. Space is limited.\n\n\n\nTo register\, https://www.rockportartassn.org/adult-education/creating-excitement-in-your-paintings-workshop-with-kt-morse
X-ALT-DESC;FMTTYPE=text/html:Creating Excitement In Your Paintings - Workshop with KT Morse<br />\nJoin KT Morse in analyzing the nuances of composition\, color\, and blocking-in\, and build visual excitement in your work every step of the way. This one-day workshop starts with a demonstration focusing on cropping and enhancing a digital image to maximize the composition before starting. Then the focus on color transparency for mazimum impact in the block-in phase sets the stage for increased drama in the finished piece.<br />\n<br />\nAll skill levels welcome. Space is limited.<br />\n<br />\nTo register\,&nbsp\;<a href="https://www.rockportartassn.org/adult-education/creating-excitement-in-your-paintings-workshop-with-kt-morse">https://www.rockportartassn.org/adult-education/creating-excitement-in-your-paintings-workshop-with-kt-morse</a>
LOCATION:Rockport Art Association & Museum 12 Main Street Rockport\, MA 01966
UID:e.2981.45904
SEQUENCE:3
DTSTAMP:20260425T151746Z
URL:https://business.capeannchamber.com/events/details/creating-excitement-in-your-paintings-workshop-with-kt-morse-rockport-art-association-museum-45904
END:VEVENT

END:VCALENDAR
