BEGIN:VCALENDAR
VERSION:2.0
PRODID:-//ChamberMaster//Event Calendar 2.0//EN
METHOD:PUBLISH
X-PUBLISHED-TTL:P3D
REFRESH-INTERVAL:P3D
CALSCALE:GREGORIAN
BEGIN:VEVENT
DTSTART:20241031T220000Z
DTEND:20241101T020000Z
X-MICROSOFT-CDO-ALLDAYEVENT:FALSE
SUMMARY:Costumes & Candlelight: Hammond Castle Museum After Dark
DESCRIPTION:One Night Only!\n\n\n\nAvoid the crush of crowds and enjoy Halloween night out with friends at Hammond Castle Museum after dark!  Come dressed in your favorite Halloween costume to explore the hallowed halls of Hammond's castle\, the very rooms where legends of the inventor's ghost ships were born!   \n\n\n\nPlenty of candles cast haunting shadows and a mysterious fog fills the courtyard creating the perfect backdrop for your spookiest Halloween photos.  Don't miss this unique opportunity to explore Hammond Castle in all its eerie splendor. Whether you're searching for the ravens we've hidden\, enjoying the candlelit ambiance\, or simply reveling in the spooky Halloween spirit\, our Costumes & Candlelight self-guided tours promise a hauntingly good time! \n\n\n\nThis program is not intended for those under 13 years of age. Guests should plan at least 60 minutes to explore the grounds and galleries of this historic museum.  This event is expected to sell out\, parking is included in the price of admission but we encourage carpooling with friends or using a ride-share service. At nearly a century\, the Museum and grounds are not handicapped accessible. There are many stairs.\n\n\n\nPhoto by Fank C. Grace.
X-ALT-DESC;FMTTYPE=text/html:<span style="background-color:rgb(255\, 255\, 255)\; color:rgb(24\, 24\, 24)\; font-family:-apple-system\,blinkmacsystemfont\,segoe ui\,roboto\,helvetica\,arial\,sans-serif\,apple color emoji\,segoe ui emoji\,segoe ui symbol\; font-size:14px">One Night Only!</span><br />\n<br />\n<span style="background-color:rgb(255\, 255\, 255)\; color:rgb(24\, 24\, 24)\; font-family:-apple-system\,blinkmacsystemfont\,segoe ui\,roboto\,helvetica\,arial\,sans-serif\,apple color emoji\,segoe ui emoji\,segoe ui symbol\; font-size:14px">Avoid the crush of crowds and enjoy Halloween night out with friends at Hammond Castle Museum after dark!&nbsp\; Come dressed in your favorite Halloween costume to explore the hallowed halls of Hammond&#39\;s castle\, the very rooms where legends of the inventor&rsquo\;s ghost ships were born!&nbsp\; &nbsp\;</span><br />\n<br />\n<span style="background-color:rgb(255\, 255\, 255)\; color:rgb(24\, 24\, 24)\; font-family:-apple-system\,blinkmacsystemfont\,segoe ui\,roboto\,helvetica\,arial\,sans-serif\,apple color emoji\,segoe ui emoji\,segoe ui symbol\; font-size:14px">Plenty of candles cast haunting shadows and a mysterious fog fills the courtyard creating the perfect&nbsp\;backdrop for your spookiest Halloween photos.&nbsp\;&nbsp\;Don&#39\;t miss this unique opportunity to explore Hammond Castle in all its eerie splendor. Whether you&#39\;re searching for the ravens we&rsquo\;ve hidden\, enjoying the candlelit ambiance\, or simply reveling in the spooky Halloween spirit\, our Costumes &amp\; Candlelight self-guided tours promise a hauntingly good time!&nbsp\;</span><br />\n<br />\n<span style="background-color:rgb(255\, 255\, 255)\; color:rgb(24\, 24\, 24)\; font-family:-apple-system\,blinkmacsystemfont\,segoe ui\,roboto\,helvetica\,arial\,sans-serif\,apple color emoji\,segoe ui emoji\,segoe ui symbol\; font-size:14px">This program is not intended for those under 13 years of age. Guests should plan at least 60 minutes to explore the grounds and galleries of this historic museum.&nbsp\; This event is expected to sell out\, parking is included in the price of admission but we encourage carpooling with friends or using a ride-share service. At nearly a century\, the Museum and grounds are not handicapped accessible. There are many stairs.<br />\n<br />\nPhoto by Fank C. Grace.</span>
LOCATION:Hammond Castle Museum 80 Hesperus Avenue Gloucester\, MA 01930
UID:e.2981.33098
SEQUENCE:3
DTSTAMP:20260424T123909Z
URL:https://business.capeannchamber.com/events/details/costumes-candlelight-hammond-castle-museum-after-dark-33098
END:VEVENT

END:VCALENDAR
