BEGIN:VCALENDAR
VERSION:2.0
PRODID:-//ChamberMaster//Event Calendar 2.0//EN
METHOD:PUBLISH
X-PUBLISHED-TTL:P3D
REFRESH-INTERVAL:P3D
CALSCALE:GREGORIAN
BEGIN:VEVENT
DTSTART:20251028T220000Z
DTEND:20251029T010000Z
X-MICROSOFT-CDO-ALLDAYEVENT:FALSE
SUMMARY:Costumes & Candlelight: Hammond Castle Museum After Dark
DESCRIPTION:Avoid the crush of crowds and enjoy Halloween week with friends at Hammond Castle Museum after dark! Come dressed in your favorite costume to explore the hallowed halls of Hammond's castle\, the very rooms where legends of the inventor's ghost ships were born.\n\n\n\nPlenty of candles cast haunting shadows\, creating the perfect backdrop for your photos. As you wander\, the haunting tunes of John Roper on Hammond's original Chickering & Sons piano will echo through the galleries\, heightening the eerie atmosphere. Guests can savor the moment with a handcrafted cocktail or mocktail\, available for purchase\, while soaking in the chilling ambiance.\n\n\n\nWhether you're searching for the ravens we've hidden\, following the sound of the piano's ghostly notes\, or simply reveling in the museum after dark\, our Costumes & Candlelight self-guided tours promise a hauntingly good time.\n\n\n\n- Timed entrances every 15 minutes\n\n- 6-9 pm Tuesday & 6-10 pm Wednesday.\n\n- Advanced reservations strongly encouraged.\n\n\n\nThis program is not intended for those under 13 years of age. Guests should plan at least 60 minutes to explore the grounds and galleries of this historic museum. This event is expected to sell out. Parking is included in the price of admission\, though we strongly encourage carpooling with friends. At nearly a century old\, the Museum and grounds are not handicapped accessible and contain many stairs.\n\n\n\nWe recommend arriving 15 minutes early to allow time for the walk from the parking lot to the Museum and for check-in. Unfortunately\, late arrivals cannot be accommodated. If you miss the start of your timed session\, you will not be admitted at another time. Please note: all ticket sales are final\, refunds are not offered\, and exchanges for other tour times are not permitted. Heavy traffic should be considered when planning your travel time.\n\n\n\nHammond Castle Museum member discounts apply! All proceeds from this program will support the restoration and preservation of the Museum.\n\n\n\nPhoto by Frank C. Grace.
X-ALT-DESC;FMTTYPE=text/html:<span style="background-color:rgb(255\, 255\, 255)\; color:rgb(24\, 24\, 24)\; font-family:-apple-system\,blinkmacsystemfont\,segoe ui\,roboto\,helvetica\,arial\,sans-serif\,apple color emoji\,segoe ui emoji\,segoe ui symbol\; font-size:14px">Avoid the crush of crowds and enjoy Halloween week with friends at Hammond Castle Museum after dark! Come dressed in your favorite costume to explore the hallowed halls of Hammond&rsquo\;s castle\, the very rooms where legends of the inventor&rsquo\;s ghost ships were born.</span><br />\n<br />\n<span style="background-color:rgb(255\, 255\, 255)\; color:rgb(24\, 24\, 24)\; font-family:-apple-system\,blinkmacsystemfont\,segoe ui\,roboto\,helvetica\,arial\,sans-serif\,apple color emoji\,segoe ui emoji\,segoe ui symbol\; font-size:14px">Plenty of candles cast haunting shadows\, creating the perfect backdrop for your photos. As you wander\, the haunting tunes of John Roper on Hammond&rsquo\;s original Chickering &amp\; Sons piano will echo through the galleries\, heightening the eerie atmosphere. Guests can savor the moment with a handcrafted cocktail or mocktail\, available for purchase\, while soaking in the chilling ambiance.</span><br />\n<br />\n<span style="background-color:rgb(255\, 255\, 255)\; color:rgb(24\, 24\, 24)\; font-family:-apple-system\,blinkmacsystemfont\,segoe ui\,roboto\,helvetica\,arial\,sans-serif\,apple color emoji\,segoe ui emoji\,segoe ui symbol\; font-size:14px">Whether you&rsquo\;re searching for the ravens we&rsquo\;ve hidden\, following the sound of the piano&rsquo\;s ghostly notes\, or simply reveling in the museum after dark\, our Costumes &amp\; Candlelight self-guided tours promise a hauntingly good time.</span><br />\n<br />\n<span style="background-color:rgb(255\, 255\, 255)\; color:rgb(24\, 24\, 24)\; font-family:-apple-system\,blinkmacsystemfont\,segoe ui\,roboto\,helvetica\,arial\,sans-serif\,apple color emoji\,segoe ui emoji\,segoe ui symbol\; font-size:14px">- Timed entrances every 15 minutes</span><br />\n<span style="background-color:rgb(255\, 255\, 255)\; color:rgb(24\, 24\, 24)\; font-family:-apple-system\,blinkmacsystemfont\,segoe ui\,roboto\,helvetica\,arial\,sans-serif\,apple color emoji\,segoe ui emoji\,segoe ui symbol\; font-size:14px">- 6-9 pm Tuesday &amp\; 6-10 pm Wednesday.</span><br />\n<span style="background-color:rgb(255\, 255\, 255)\; color:rgb(24\, 24\, 24)\; font-family:-apple-system\,blinkmacsystemfont\,segoe ui\,roboto\,helvetica\,arial\,sans-serif\,apple color emoji\,segoe ui emoji\,segoe ui symbol\; font-size:14px">- Advanced reservations strongly encouraged.</span><br />\n<br />\n<span style="background-color:rgb(255\, 255\, 255)\; color:rgb(24\, 24\, 24)\; font-family:-apple-system\,blinkmacsystemfont\,segoe ui\,roboto\,helvetica\,arial\,sans-serif\,apple color emoji\,segoe ui emoji\,segoe ui symbol\; font-size:14px">This program is not intended for those under 13 years of age. Guests should plan at least 60 minutes to explore the grounds and galleries of this historic museum. This event is expected to sell out. Parking is included in the price of admission\, though we strongly encourage carpooling with friends. At nearly a century old\, the Museum and grounds are not handicapped accessible and contain many stairs.</span><br />\n<br />\n<span style="background-color:rgb(255\, 255\, 255)\; color:rgb(24\, 24\, 24)\; font-family:-apple-system\,blinkmacsystemfont\,segoe ui\,roboto\,helvetica\,arial\,sans-serif\,apple color emoji\,segoe ui emoji\,segoe ui symbol\; font-size:14px">We recommend arriving 15 minutes early to allow time for the walk from the parking lot to the Museum and for check-in. Unfortunately\, late arrivals cannot be accommodated. If you miss the start of your timed session\, you will not be admitted at another time. Please note: all ticket sales are final\, refunds are not offered\, and exchanges for other tour times are not permitted. Heavy traffic should be considered when planning your travel time.</span><br />\n<br />\n<span style="background-color:rgb(255\, 255\, 255)\; color:rgb(24\, 24\, 24)\; font-family:-apple-system\,blinkmacsystemfont\,segoe ui\,roboto\,helvetica\,arial\,sans-serif\,apple color emoji\,segoe ui emoji\,segoe ui symbol\; font-size:14px">Hammond Castle Museum member discounts apply! All proceeds from this program will support the restoration and preservation of the Museum.<br />\n<br />\nPhoto by Frank C. Grace.</span>
LOCATION:Hammond Castle Museum 80 Hesperus Avenue Gloucester\, MA 01930
UID:e.2981.44793
SEQUENCE:3
DTSTAMP:20260425T024446Z
URL:https://business.capeannchamber.com/events/details/costumes-candlelight-hammond-castle-museum-after-dark-10-28-2025-44793
END:VEVENT

END:VCALENDAR
