BEGIN:VCALENDAR
VERSION:2.0
PRODID:-//ChamberMaster//Event Calendar 2.0//EN
METHOD:PUBLISH
X-PUBLISHED-TTL:P3D
REFRESH-INTERVAL:P3D
CALSCALE:GREGORIAN
BEGIN:VEVENT
DTSTART:20251205T220000Z
DTEND:20251206T010000Z
X-MICROSOFT-CDO-ALLDAYEVENT:FALSE
SUMMARY:Cornerstone Church- Parent's Night Out
DESCRIPTION:Parent's Night Out - Come join us at Cornerstone Church for pizza\, games\, crafts\, and a holiday movie! Come in your Christmas Pajamas! \n\n\n\nFor ages K through 5th grade.
X-ALT-DESC;FMTTYPE=text/html:Parent&#39\;s Night Out - Come join us at Cornerstone Church for pizza\, games\, crafts\, and a holiday movie! Come in your Christmas Pajamas!&nbsp\;<br />\n<br />\nFor ages K through 5th grade.
LOCATION:
UID:e.2981.45510
SEQUENCE:3
DTSTAMP:20260422T021900Z
URL:https://business.capeannchamber.com/events/details/cornerstone-church-parent-s-night-out-45510
END:VEVENT

END:VCALENDAR
