BEGIN:VCALENDAR
VERSION:2.0
PRODID:-//ChamberMaster//Event Calendar 2.0//EN
METHOD:PUBLISH
X-PUBLISHED-TTL:P3D
REFRESH-INTERVAL:P3D
CALSCALE:GREGORIAN
BEGIN:VEVENT
DTSTART:20251204T133000Z
DTEND:20251204T153000Z
X-MICROSOFT-CDO-ALLDAYEVENT:FALSE
SUMMARY:Contracts Basics for Small Business Owners
DESCRIPTION:Northeast Legal Aid\, Inc. (NLA) staff attorneys will lead Contracts Basics for Small Business Owners. This in-person workshop will cover what every small business owner should know about contracts.\n\nIn this workshop\, the presenters will:\n\n  Explain why contracts are important for small businesses and give examples of how you may encounter them\n\n  Share best practices of negotiating\, drafting\, and signing contracts as well as common missteps and how to avoid them\n\n  Walk through the basic structure of a contract and break down key provisions\n\n  Describe the essential elements that every contract must have and go over special legal rules for certain types of contracts\n\nThis informative workshop is offered at no cost and is being sponsored in partnership with the North Shore Alliance for Economic Development and the Massachusetts Office of Business Development (MOBD).
X-ALT-DESC;FMTTYPE=text/html:<p>Northeast Legal Aid\, Inc. (NLA) staff attorneys will lead Contracts Basics for Small Business Owners. This in-person workshop will cover what every small business owner should know about contracts.</p>\n\n<p>In this workshop\, the presenters will:</p>\n\n<p>&middot\; Explain why contracts are important for small businesses and give examples of how you may encounter them<br />\n&middot\; Share best practices of negotiating\, drafting\, and signing contracts as well as common missteps and how to avoid them<br />\n&middot\; Walk through the basic structure of a contract and break down key provisions<br />\n&middot\; Describe the essential elements that every contract must have and go over special legal rules for certain types of contracts</p>\n\n<p>This informative workshop is offered at no cost and is being sponsored in partnership with the&nbsp\;<a href="https://nam02.safelinks.protection.outlook.com/?url=https%3A%2F%2Fr20.rs6.net%2Ftn.jsp%3Ff%3D001tOv4IixMZF1OdWt2u-mUhPW3UFGzRjydp9-sR-oUmphWSv11XM_Dcom6VLmRPtHgyjDGbOsyxkIyCyHhwDfPq4rBR5b4Y19Vl8Qtn77qNsbyNYdlk0Ld4zQD2_7AIlGNmvGDwVw3LlDAbm-t1A-HeWvIIQv-t264OdLzYE4nu080X6AO_ExhxE5Z1hZ_evjA57G6t03hLbJaFGslNOI4feBAuxszRSkBbgHqPxwEttvNZ-EV2KoXVWWk1bS051H0SMWHEOob8HSR-U6KrVgXHnW4UUIeVmMNOJjgPIKZ-uYj_yY2pPPMvCYdamRkoQ7Q_tZEnf8a_-sGjazV-LYYj8JAmmshUBX_gLtGLB5dRXPBTYLjJYvC2gKB4eq6CjB2RKqp5VLCthWE9_e3qeRy_l9ZtUVf0k8iPB7jAw2QwUSzipImaI11e2dNLsh0XaPAezvgbT3i9v15aabU9omROXilxM626b7mIoGMtfXNLNUlOqRg9Q_9AgA4JYErIi71ALBdAaLhS4JDREz4oxG_J5cGRirRM5thZmFPGo7khAAjt_AsNeBTDfKQJu8kz8tsXDX4yLssfTZjQfhNC4TEKFw-TcG8-ymPEGYs015zPYIQCur3__HU3Sc7sUMopspdFSqwVkqM6arh3if-aA_ANTpLFY_8SOAsh5sEijE-BW-RE_kBlEmFdtqMg_g0ld8mwb8PdgsZnI5ydkwgNad4xDtXO8evDkdnPf7je71V5aE5opU9xu4_CouEq2FwPK0zLWTc9QaFgJpiCwmPd31oTVqVbhTw2xI-iCDtHI5svkiIcp7QJFLobc3AHVWgVhBr0n18cXAu6Z3yBEMoSdQJzLEqLBIyjhtLeAHahQTan198GrMfj0QeUNgDq3WyiWDw5qWbCx5wvg86VSYJpOaYgzHRzLbbekxYZrVp5XxlKDJK8mEodCFlfe8uV8CE7eoOw6eEPINT1n_4ha8-gcsop3E1wlZ4q5_cD0pdLrVOPZhcYqeIQCqC4Qbo9evj8yCYZjN7xi_9uG9IupoI1xuoHLezcqvoPawDUDk6QNn657lEDMQlAzV1fRxnOuri0xPv-Lo2tsXCJpPKGFZhSEr0AiN8Mw68eBy7Kt8nB0h5hivVSjwRwoG64A%3D%3D%26c%3Dwa_a8_u_ADn6lsmA8FjBehGvTXdJ-CEJcSMvZpOCR8rK5ZTLlkfWSw%3D%3D%26ch%3DFfakU6EGSKCfturUAIKnN7H0nDocSchUPqHzECuzEqeKFZy4udCcZg%3D%3D&amp\;data=05%7C02%7Cbronan%40enterprisectr.org%7C99062d923e7247c6086008dc018e3f16%7Cef01aacfbd5f4da3985b2832a1bf270c%7C0%7C0%7C638386957687998678%7CUnknown%7CTWFpbGZsb3d8eyJWIjoiMC4wLjAwMDAiLCJQIjoiV2luMzIiLCJBTiI6Ik1haWwiLCJXVCI6Mn0%3D%7C3000%7C%7C%7C&amp\;sdata=Fs%2BPpMb4LEtzed0zEQoEZhlACKOP06ZJ8lToyoy8ZOU%3D&amp\;reserved=0" rel="nofollow noopener noreferrer ugc" style="box-sizing: border-box\; text-rendering: optimizelegibility\; background: 0px 0px\; text-decoration-line: none\; color: rgb(174\, 17\, 56)\; border-bottom: 1px solid\; transition: color 0.2s\; outline: 0px\;" target="_blank" title="https://nam02.safelinks.protection.outlook.com/?url=https%3A%2F%2Fr20.rs6.net%2Ftn.jsp%3Ff%3D001tOv4IixMZF1OdWt2u-mUhPW3UFGzRjydp9-sR-oUmphWSv11XM_Dcom6VLmRPtHgyjDGbOsyxkIyCyHhwDfPq4rBR5b4Y19Vl8Qtn77qNsbyNYdlk0Ld4zQD2_7AIlGNmvGDwVw3LlDAbm-t1A-HeWvIIQv-t264OdLzYE4nu080X6AO_ExhxE5Z1hZ_evjA57G6t03hLbJaFGslNOI4feBAuxszRSkBbgHqPxwEttvNZ-EV2KoXVWWk1bS051H0SMWHEOob8HSR-U6KrVgXHnW4UUIeVmMNOJjgPIKZ-uYj_yY2pPPMvCYdamRkoQ7Q_tZEnf8a_-sGjazV-LYYj8JAmmshUBX_gLtGLB5dRXPBTYLjJYvC2gKB4eq6CjB2RKqp5VLCthWE9_e3qeRy_l9ZtUVf0k8iPB7jAw2QwUSzipImaI11e2dNLsh0XaPAezvgbT3i9v15aabU9omROXilxM626b7mIoGMtfXNLNUlOqRg9Q_9AgA4JYErIi71ALBdAaLhS4JDREz4oxG_J5cGRirRM5thZmFPGo7khAAjt_AsNeBTDfKQJu8kz8tsXDX4yLssfTZjQfhNC4TEKFw-TcG8-ymPEGYs015zPYIQCur3__HU3Sc7sUMopspdFSqwVkqM6arh3if-aA_ANTpLFY_8SOAsh5sEijE-BW-RE_kBlEmFdtqMg_g0ld8mwb8PdgsZnI5ydkwgNad4xDtXO8evDkdnPf7je71V5aE5opU9xu4_CouEq2FwPK0zLWTc9QaFgJpiCwmPd31oTVqVbhTw2xI-iCDtHI5svkiIcp7QJFLobc3AHVWgVhBr0n18cXAu6Z3yBEMoSdQJzLEqLBIyjhtLeAHahQTan198GrMfj0QeUNgDq3WyiWDw5qWbCx5wvg86VSYJpOaYgzHRzLbbekxYZrVp5XxlKDJK8mEodCFlfe8uV8CE7eoOw6eEPINT1n_4ha8-gcsop3E1wlZ4q5_cD0pdLrVOPZhcYqeIQCqC4Qbo9evj8yCYZjN7xi_9uG9IupoI1xuoHLezcqvoPawDUDk6QNn657lEDMQlAzV1fRxnOuri0xPv-Lo2tsXCJpPKGFZhSEr0AiN8Mw68eBy7Kt8nB0h5hivVSjwRwoG64A%3D%3D%26c%3Dwa_a8_u_ADn6lsmA8FjBehGvTXdJ-CEJcSMvZpOCR8rK5ZTLlkfWSw%3D%3D%26ch%3DFfakU6EGSKCfturUAIKnN7H0nDocSchUPqHzECuzEqeKFZy4udCcZg%3D%3D&amp\;data=05%7C02%7Cbronan%40enterprisectr.org%7C99062d923e7247c6086008dc018e3f16%7Cef01aacfbd5f4da3985b2832a1bf270c%7C0%7C0%7C638386957687998678%7CUnknown%7CTWFpbGZsb3d8eyJWIjoiMC4wLjAwMDAiLCJQIjoiV2luMzIiLCJBTiI6Ik1haWwiLCJXVCI6Mn0%3D%7C3000%7C%7C%7C&amp\;sdata=Fs%2BPpMb4LEtzed0zEQoEZhlACKOP06ZJ8lToyoy8ZOU%3D&amp\;reserved=0"><strong>North Shore Alliance for Economic Development</strong></a>&nbsp\;and the&nbsp\;<a href="https://nam02.safelinks.protection.outlook.com/?url=http%3A%2F%2Fr20.rs6.net%2Ftn.jsp%3Ff%3D0010YSTEMIhZKwByy-T2ckvftXsyjOoktLq7xDEnho9kVeqZk_LfcxSFfCg-2y4eYtpp7eMRGbz6sfZgzAyHWO6sGZGL_aC_35OXNLK9F1Te5og8358F4gDJqe2ciZy94Ermmvh7QZe51VtQFtjd_XThva7PKcItDEXx47K5jcfG-jOWYZB5OCY1wp0NHHy1zHAzd4Ebr04CGL4tb9ZQlFwBpdzpMhfy1VZzWYfBD03Y2bR_-e3ULpGRnjoBhT_LiIQCP2cKY97PbFjMlcqdkBQsjtPSeAO77Z5CQUg2AEFEvOBP9bw40GUg1ZXTK5CNARHVTm3rrP88qgdjNVK35HJHu4tRwHmUGQ-HSt3bCx3nLSWGnYWElQxL6eulvJeBX2cN6H24gIDxGOjvt9ZhTQAfCh3jzGQ3H37PjSIDg7aaMZPD-zkktYKaei8ISZ74AZRwu2LmSE7ZJBtAHxbvbf24nOvYlQoSiDA18o1ymKj0eCRoVOXJnHex0UbKcOSz5NJIyafvmuTkrN5CMZBmODDoT0i3Shq4EOTwkGLxta7rbX2eUgIwFqjMpKeLYMKmUB-iyAoOg7FwBCIAlD-MHMF3LBgmWuL3l-41hQf46FH5PXiPRzCYhwfNCZrT0naK-Iuu4wPZdfE2oJg4SQu46iFS-MyOAqVvVm1EOs2Ci8KkWttOlR2MPP5ASLz2m2hmDn49igIzejrCSAKhDgXULsx0hHMV4GVCNk2s14anzZG3Wq45tyEdBqQ_k3xf_AgXWVLi0amf4xWB-A7iP2-khc4_B68mHrML5b-Fa4Hbk-bE-m2ws0B-q9An7A1KUK3T1yTGkGgL6t7OBaALq6_er2lfD8lPVx3a8QVi9gaTzYLmt8gH7qsoyOepVF6NL8dDhUjF8aooRFWfpN7sBAlbSY7FXqc8soloLaIzl6zNUFWia6uvnitcZ2cu2i_rbvfmGasrCuStcU9M_vlA4DFYwyen65SA_h52BUr9n-xQ61U4jvYeGKTsZCQx81BA7pxsSzk_w0xIb-39xUrRBH3vz_qbOZgB_LGw_oyd9h-oMoxT9yGfFnoQo_gR0AbmmXsVm0L6bLYMoGJ4yA30JKz-q7LHdpkbnxD9KbeEs0HgYlLtqHK5vLO28jF-jGvrHW39plzP6TJVRrZIfr_z4pAHX60-fI42vNXGUDQUjS832IHdD6WI7fbwUjbLXGio-dNz0hg%26c%3DhAsle5-kC-eECBpY_EK7yXbv2TAYnr6lFtHSgSHysfZz0sKluSKoFw%3D%3D%26ch%3DSPt32kdDr8FFc_kqxM0AjjJPSrfOaHbyUKY8pmDnsh6Cgi0ZtxLY_A%3D%3D&amp\;data=05%7C02%7Cbronan%40enterprisectr.org%7C99062d923e7247c6086008dc018e3f16%7Cef01aacfbd5f4da3985b2832a1bf270c%7C0%7C0%7C638386957688155005%7CUnknown%7CTWFpbGZsb3d8eyJWIjoiMC4wLjAwMDAiLCJQIjoiV2luMzIiLCJBTiI6Ik1haWwiLCJXVCI6Mn0%3D%7C3000%7C%7C%7C&amp\;sdata=qIZ14iHJWcymGbdnPwA4O7LG3hbHVvbKC3izG3mzmsc%3D&amp\;reserved=0" rel="nofollow noopener noreferrer ugc" style="box-sizing: border-box\; text-rendering: optimizelegibility\; background: 0px 0px\; text-decoration-line: none\; color: rgb(174\, 17\, 56)\; border-bottom: 1px solid rgb(174\, 17\, 56)\; transition: color 0.2s\;" target="_blank" title="https://nam02.safelinks.protection.outlook.com/?url=http%3A%2F%2Fr20.rs6.net%2Ftn.jsp%3Ff%3D0010YSTEMIhZKwByy-T2ckvftXsyjOoktLq7xDEnho9kVeqZk_LfcxSFfCg-2y4eYtpp7eMRGbz6sfZgzAyHWO6sGZGL_aC_35OXNLK9F1Te5og8358F4gDJqe2ciZy94Ermmvh7QZe51VtQFtjd_XThva7PKcItDEXx47K5jcfG-jOWYZB5OCY1wp0NHHy1zHAzd4Ebr04CGL4tb9ZQlFwBpdzpMhfy1VZzWYfBD03Y2bR_-e3ULpGRnjoBhT_LiIQCP2cKY97PbFjMlcqdkBQsjtPSeAO77Z5CQUg2AEFEvOBP9bw40GUg1ZXTK5CNARHVTm3rrP88qgdjNVK35HJHu4tRwHmUGQ-HSt3bCx3nLSWGnYWElQxL6eulvJeBX2cN6H24gIDxGOjvt9ZhTQAfCh3jzGQ3H37PjSIDg7aaMZPD-zkktYKaei8ISZ74AZRwu2LmSE7ZJBtAHxbvbf24nOvYlQoSiDA18o1ymKj0eCRoVOXJnHex0UbKcOSz5NJIyafvmuTkrN5CMZBmODDoT0i3Shq4EOTwkGLxta7rbX2eUgIwFqjMpKeLYMKmUB-iyAoOg7FwBCIAlD-MHMF3LBgmWuL3l-41hQf46FH5PXiPRzCYhwfNCZrT0naK-Iuu4wPZdfE2oJg4SQu46iFS-MyOAqVvVm1EOs2Ci8KkWttOlR2MPP5ASLz2m2hmDn49igIzejrCSAKhDgXULsx0hHMV4GVCNk2s14anzZG3Wq45tyEdBqQ_k3xf_AgXWVLi0amf4xWB-A7iP2-khc4_B68mHrML5b-Fa4Hbk-bE-m2ws0B-q9An7A1KUK3T1yTGkGgL6t7OBaALq6_er2lfD8lPVx3a8QVi9gaTzYLmt8gH7qsoyOepVF6NL8dDhUjF8aooRFWfpN7sBAlbSY7FXqc8soloLaIzl6zNUFWia6uvnitcZ2cu2i_rbvfmGasrCuStcU9M_vlA4DFYwyen65SA_h52BUr9n-xQ61U4jvYeGKTsZCQx81BA7pxsSzk_w0xIb-39xUrRBH3vz_qbOZgB_LGw_oyd9h-oMoxT9yGfFnoQo_gR0AbmmXsVm0L6bLYMoGJ4yA30JKz-q7LHdpkbnxD9KbeEs0HgYlLtqHK5vLO28jF-jGvrHW39plzP6TJVRrZIfr_z4pAHX60-fI42vNXGUDQUjS832IHdD6WI7fbwUjbLXGio-dNz0hg%26c%3DhAsle5-kC-eECBpY_EK7yXbv2TAYnr6lFtHSgSHysfZz0sKluSKoFw%3D%3D%26ch%3DSPt32kdDr8FFc_kqxM0AjjJPSrfOaHbyUKY8pmDnsh6Cgi0ZtxLY_A%3D%3D&amp\;data=05%7C02%7Cbronan%40enterprisectr.org%7C99062d923e7247c6086008dc018e3f16%7Cef01aacfbd5f4da3985b2832a1bf270c%7C0%7C0%7C638386957688155005%7CUnknown%7CTWFpbGZsb3d8eyJWIjoiMC4wLjAwMDAiLCJQIjoiV2luMzIiLCJBTiI6Ik1haWwiLCJXVCI6Mn0%3D%7C3000%7C%7C%7C&amp\;sdata=qIZ14iHJWcymGbdnPwA4O7LG3hbHVvbKC3izG3mzmsc%3D&amp\;reserved=0"><strong>Massachusetts Office</strong></a>&nbsp\;<a href="https://nam02.safelinks.protection.outlook.com/?url=http%3A%2F%2Fr20.rs6.net%2Ftn.jsp%3Ff%3D0010YSTEMIhZKwByy-T2ckvftXsyjOoktLq7xDEnho9kVeqZk_LfcxSFfCg-2y4eYtpp7eMRGbz6sfZgzAyHWO6sGZGL_aC_35OXNLK9F1Te5og8358F4gDJqe2ciZy94Ermmvh7QZe51VtQFtjd_XThva7PKcItDEXx47K5jcfG-jOWYZB5OCY1wp0NHHy1zHAzd4Ebr04CGL4tb9ZQlFwBpdzpMhfy1VZzWYfBD03Y2bR_-e3ULpGRnjoBhT_LiIQCP2cKY97PbFjMlcqdkBQsjtPSeAO77Z5CQUg2AEFEvOBP9bw40GUg1ZXTK5CNARHVTm3rrP88qgdjNVK35HJHu4tRwHmUGQ-HSt3bCx3nLSWGnYWElQxL6eulvJeBX2cN6H24gIDxGOjvt9ZhTQAfCh3jzGQ3H37PjSIDg7aaMZPD-zkktYKaei8ISZ74AZRwu2LmSE7ZJBtAHxbvbf24nOvYlQoSiDA18o1ymKj0eCRoVOXJnHex0UbKcOSz5NJIyafvmuTkrN5CMZBmODDoT0i3Shq4EOTwkGLxta7rbX2eUgIwFqjMpKeLYMKmUB-iyAoOg7FwBCIAlD-MHMF3LBgmWuL3l-41hQf46FH5PXiPRzCYhwfNCZrT0naK-Iuu4wPZdfE2oJg4SQu46iFS-MyOAqVvVm1EOs2Ci8KkWttOlR2MPP5ASLz2m2hmDn49igIzejrCSAKhDgXULsx0hHMV4GVCNk2s14anzZG3Wq45tyEdBqQ_k3xf_AgXWVLi0amf4xWB-A7iP2-khc4_B68mHrML5b-Fa4Hbk-bE-m2ws0B-q9An7A1KUK3T1yTGkGgL6t7OBaALq6_er2lfD8lPVx3a8QVi9gaTzYLmt8gH7qsoyOepVF6NL8dDhUjF8aooRFWfpN7sBAlbSY7FXqc8soloLaIzl6zNUFWia6uvnitcZ2cu2i_rbvfmGasrCuStcU9M_vlA4DFYwyen65SA_h52BUr9n-xQ61U4jvYeGKTsZCQx81BA7pxsSzk_w0xIb-39xUrRBH3vz_qbOZgB_LGw_oyd9h-oMoxT9yGfFnoQo_gR0AbmmXsVm0L6bLYMoGJ4yA30JKz-q7LHdpkbnxD9KbeEs0HgYlLtqHK5vLO28jF-jGvrHW39plzP6TJVRrZIfr_z4pAHX60-fI42vNXGUDQUjS832IHdD6WI7fbwUjbLXGio-dNz0hg%26c%3DhAsle5-kC-eECBpY_EK7yXbv2TAYnr6lFtHSgSHysfZz0sKluSKoFw%3D%3D%26ch%3DSPt32kdDr8FFc_kqxM0AjjJPSrfOaHbyUKY8pmDnsh6Cgi0ZtxLY_A%3D%3D&amp\;data=05%7C02%7Cbronan%40enterprisectr.org%7C99062d923e7247c6086008dc018e3f16%7Cef01aacfbd5f4da3985b2832a1bf270c%7C0%7C0%7C638386957688155005%7CUnknown%7CTWFpbGZsb3d8eyJWIjoiMC4wLjAwMDAiLCJQIjoiV2luMzIiLCJBTiI6Ik1haWwiLCJXVCI6Mn0%3D%7C3000%7C%7C%7C&amp\;sdata=qIZ14iHJWcymGbdnPwA4O7LG3hbHVvbKC3izG3mzmsc%3D&amp\;reserved=0" rel="nofollow noopener noreferrer ugc" style="box-sizing: border-box\; text-rendering: optimizelegibility\; background: 0px 0px\; text-decoration-line: none\; color: rgb(174\, 17\, 56)\; border-bottom: 1px solid rgb(174\, 17\, 56)\; transition: color 0.2s\;" target="_blank" title="https://nam02.safelinks.protection.outlook.com/?url=http%3A%2F%2Fr20.rs6.net%2Ftn.jsp%3Ff%3D0010YSTEMIhZKwByy-T2ckvftXsyjOoktLq7xDEnho9kVeqZk_LfcxSFfCg-2y4eYtpp7eMRGbz6sfZgzAyHWO6sGZGL_aC_35OXNLK9F1Te5og8358F4gDJqe2ciZy94Ermmvh7QZe51VtQFtjd_XThva7PKcItDEXx47K5jcfG-jOWYZB5OCY1wp0NHHy1zHAzd4Ebr04CGL4tb9ZQlFwBpdzpMhfy1VZzWYfBD03Y2bR_-e3ULpGRnjoBhT_LiIQCP2cKY97PbFjMlcqdkBQsjtPSeAO77Z5CQUg2AEFEvOBP9bw40GUg1ZXTK5CNARHVTm3rrP88qgdjNVK35HJHu4tRwHmUGQ-HSt3bCx3nLSWGnYWElQxL6eulvJeBX2cN6H24gIDxGOjvt9ZhTQAfCh3jzGQ3H37PjSIDg7aaMZPD-zkktYKaei8ISZ74AZRwu2LmSE7ZJBtAHxbvbf24nOvYlQoSiDA18o1ymKj0eCRoVOXJnHex0UbKcOSz5NJIyafvmuTkrN5CMZBmODDoT0i3Shq4EOTwkGLxta7rbX2eUgIwFqjMpKeLYMKmUB-iyAoOg7FwBCIAlD-MHMF3LBgmWuL3l-41hQf46FH5PXiPRzCYhwfNCZrT0naK-Iuu4wPZdfE2oJg4SQu46iFS-MyOAqVvVm1EOs2Ci8KkWttOlR2MPP5ASLz2m2hmDn49igIzejrCSAKhDgXULsx0hHMV4GVCNk2s14anzZG3Wq45tyEdBqQ_k3xf_AgXWVLi0amf4xWB-A7iP2-khc4_B68mHrML5b-Fa4Hbk-bE-m2ws0B-q9An7A1KUK3T1yTGkGgL6t7OBaALq6_er2lfD8lPVx3a8QVi9gaTzYLmt8gH7qsoyOepVF6NL8dDhUjF8aooRFWfpN7sBAlbSY7FXqc8soloLaIzl6zNUFWia6uvnitcZ2cu2i_rbvfmGasrCuStcU9M_vlA4DFYwyen65SA_h52BUr9n-xQ61U4jvYeGKTsZCQx81BA7pxsSzk_w0xIb-39xUrRBH3vz_qbOZgB_LGw_oyd9h-oMoxT9yGfFnoQo_gR0AbmmXsVm0L6bLYMoGJ4yA30JKz-q7LHdpkbnxD9KbeEs0HgYlLtqHK5vLO28jF-jGvrHW39plzP6TJVRrZIfr_z4pAHX60-fI42vNXGUDQUjS832IHdD6WI7fbwUjbLXGio-dNz0hg%26c%3DhAsle5-kC-eECBpY_EK7yXbv2TAYnr6lFtHSgSHysfZz0sKluSKoFw%3D%3D%26ch%3DSPt32kdDr8FFc_kqxM0AjjJPSrfOaHbyUKY8pmDnsh6Cgi0ZtxLY_A%3D%3D&amp\;data=05%7C02%7Cbronan%40enterprisectr.org%7C99062d923e7247c6086008dc018e3f16%7Cef01aacfbd5f4da3985b2832a1bf270c%7C0%7C0%7C638386957688155005%7CUnknown%7CTWFpbGZsb3d8eyJWIjoiMC4wLjAwMDAiLCJQIjoiV2luMzIiLCJBTiI6Ik1haWwiLCJXVCI6Mn0%3D%7C3000%7C%7C%7C&amp\;sdata=qIZ14iHJWcymGbdnPwA4O7LG3hbHVvbKC3izG3mzmsc%3D&amp\;reserved=0"><strong>of Business Development (MOBD)</strong></a>.</p>\n
LOCATION:The Enterprise Center at Salem State University
UID:e.2981.43142
SEQUENCE:3
DTSTAMP:20260422T044633Z
URL:https://business.capeannchamber.com/events/details/contracts-basics-for-small-business-owners-43142
END:VEVENT

END:VCALENDAR
