BEGIN:VCALENDAR
VERSION:2.0
PRODID:-//ChamberMaster//Event Calendar 2.0//EN
METHOD:PUBLISH
X-PUBLISHED-TTL:P3D
REFRESH-INTERVAL:P3D
CALSCALE:GREGORIAN
BEGIN:VEVENT
DTSTART:20200430T230000Z
DTEND:20200430T233000Z
X-MICROSOFT-CDO-ALLDAYEVENT:FALSE
SUMMARY:Conference Call for Spring Cleanse
DESCRIPTION:Free conference call for Ayurvedic 3 day cleanse with Ayurveda Wellness Healing\, LLC and TreetopYoga \n\n\n\n\n\nNew Dial-in Number(s)\n\n(515) 604-9099\n\n\n\nAccess Code per account(s)\n\nemail us: info@ayurvedawellnesshealing.com\n\n\n\nCleanse dates: May 3 - 5\, 2020 (or 3 days that work for your schedule) \n\n\n\nHave 3 days? Want better health? Learn more on this free informational call for the upcoming Spring Cleanse with Ayurveda Wellness Healing\, LLC and Treetop!\n\n\n\nSpring is a perfect time to detox and reset of our digestive fires (Agni) to help remove built up toxins (Ama) from the heavy winter diet.\n\n\n\nOur 3-day cleanse will help to reset your digestive fires to help flush out toxins and restore the gut-brain connection to improve your over all health. You will see improvement on fatigue\, mental fog\, depression\, anxiety\, and bloating.\n\n\n\n**We are incorporating a free "Zoom" spring sunrise yoga class\, led by Erin Waltz McKay of TreetopYoga in Gloucester\, that recognizes Kapha's earthy and watery nature. As the sister science of Ayurveda\, a yoga practice can boost energy in the body. (this is a fluid situation so date will be announced)
X-ALT-DESC;FMTTYPE=text/html:<span style="background-color:rgb(255\, 255\, 255)\; color:rgb(29\, 33\, 41)\; font-family:system-ui\,-apple-system\,blinkmacsystemfont\,.sfnstext-regular\,sans-serif\; font-size:14px">Free conference call for Ayurvedic 3 day cleanse with </span><a href="https://www.facebook.com/AyurvedaWellnessHealing/" style="color: rgb(56\, 88\, 152)\; cursor: pointer\; text-decoration: none\; font-family: system-ui\, -apple-system\, BlinkMacSystemFont\, &quot\;.SFNSText-Regular&quot\;\, sans-serif\; font-size: 14px\; white-space: pre-wrap\;" target="_blank">Ayurveda Wellness Healing\, LLC</a><span style="background-color:rgb(255\, 255\, 255)\; color:rgb(29\, 33\, 41)\; font-family:system-ui\,-apple-system\,blinkmacsystemfont\,.sfnstext-regular\,sans-serif\; font-size:14px"> and </span><a href="https://www.facebook.com/treetopyoga/" style="color: rgb(56\, 88\, 152)\; cursor: pointer\; text-decoration: none\; font-family: system-ui\, -apple-system\, BlinkMacSystemFont\, &quot\;.SFNSText-Regular&quot\;\, sans-serif\; font-size: 14px\; white-space: pre-wrap\;" target="_blank">TreetopYoga</a><span style="background-color:rgb(255\, 255\, 255)\; color:rgb(29\, 33\, 41)\; font-family:system-ui\,-apple-system\,blinkmacsystemfont\,.sfnstext-regular\,sans-serif\; font-size:14px"> </span><br />\n<br />\n<br />\n<span style="background-color:rgb(255\, 255\, 255)\; color:rgb(29\, 33\, 41)\; font-family:system-ui\,-apple-system\,blinkmacsystemfont\,.sfnstext-regular\,sans-serif\; font-size:14px">New Dial-in Number(s)</span><br />\n<span style="background-color:rgb(255\, 255\, 255)\; color:rgb(29\, 33\, 41)\; font-family:system-ui\,-apple-system\,blinkmacsystemfont\,.sfnstext-regular\,sans-serif\; font-size:14px">(515) 604-9099</span><br />\n<br />\n<span style="background-color:rgb(255\, 255\, 255)\; color:rgb(29\, 33\, 41)\; font-family:system-ui\,-apple-system\,blinkmacsystemfont\,.sfnstext-regular\,sans-serif\; font-size:14px">Access Code per account(s)</span><br />\n<span style="background-color:rgb(255\, 255\, 255)\; font-size:14px">email us: info@ayurvedawellnesshealing.com</span><br />\n<br />\n<span style="background-color:rgb(255\, 255\, 255)\; color:rgb(29\, 33\, 41)\; font-family:system-ui\,-apple-system\,blinkmacsystemfont\,.sfnstext-regular\,sans-serif\; font-size:14px">Cleanse dates: May 3 - 5\, 2020 (or 3 days that work for your schedule) </span><br />\n<br />\n<span style="background-color:rgb(255\, 255\, 255)\; color:rgb(29\, 33\, 41)\; font-family:system-ui\,-apple-system\,blinkmacsystemfont\,.sfnstext-regular\,sans-serif\; font-size:14px">Have 3 days? Want better health? Learn more on this free informational call for the upcoming Spring Cleanse with Ayurveda Wellness Healing\, LLC and Treetop!</span><br />\n<br />\n<span style="background-color:rgb(255\, 255\, 255)\; color:rgb(29\, 33\, 41)\; font-family:system-ui\,-apple-system\,blinkmacsystemfont\,.sfnstext-regular\,sans-serif\; font-size:14px">Spring is a perfect time to detox and reset of our digestive fires (Agni) to help remove built up toxins (Ama) from the heavy winter diet.</span><br />\n<br />\n<span style="background-color:rgb(255\, 255\, 255)\; color:rgb(29\, 33\, 41)\; font-family:system-ui\,-apple-system\,blinkmacsystemfont\,.sfnstext-regular\,sans-serif\; font-size:14px">Our 3-day cleanse will help to reset your digestive fires to help flush out toxins and restore the gut-brain connection to improve your over all health. You will see improvement on fatigue\, mental fog\, depression\, anxiety\, and bloating.</span><br />\n<br />\n<span style="background-color:rgb(255\, 255\, 255)\; color:rgb(29\, 33\, 41)\; font-family:system-ui\,-apple-system\,blinkmacsystemfont\,.sfnstext-regular\,sans-serif\; font-size:14px">**We are incorporating a free &quot\;Zoom&quot\; spring sunrise yoga class\, led by Erin Waltz McKay of TreetopYoga in Gloucester\, that recognizes Kapha&#39\;s earthy and watery nature. As the sister science of Ayurveda\, a yoga practice can boost energy in the body. (this is a fluid situation so date will be announced)</span>
LOCATION:Phone
UID:e.2981.19449
SEQUENCE:3
DTSTAMP:20260426T041508Z
URL:https://business.capeannchamber.com/events/details/conference-call-for-spring-cleanse-19449
END:VEVENT

END:VCALENDAR
