BEGIN:VCALENDAR
VERSION:2.0
PRODID:-//ChamberMaster//Event Calendar 2.0//EN
METHOD:PUBLISH
X-PUBLISHED-TTL:P3D
REFRESH-INTERVAL:P3D
CALSCALE:GREGORIAN
BEGIN:VEVENT
DTSTART:20250421T210000Z
DTEND:20250422T000000Z
X-MICROSOFT-CDO-ALLDAYEVENT:FALSE
SUMMARY:Community Pickleball Night at the Cape Ann YMCA
DESCRIPTION:Join us for an exciting FREE Open Community Pickleball Night\, where fun\, fitness\, and friendly competition come together! Plus\, don't miss out on our raffle for a chance to win some fun prizes!\n\n\n\nReserve your spot today   https://tinyurl.com/4x3c2dfd
X-ALT-DESC;FMTTYPE=text/html:Join us for an exciting FREE Open Community Pickleball Night\, where fun\, fitness\, and friendly competition come together! Plus\, don&rsquo\;t miss out on our raffle for a chance to win some fun prizes!<br />\n<br />\nReserve your spot today&gt\;&gt\;&nbsp\;https://tinyurl.com/4x3c2dfd
LOCATION:
UID:e.2981.36542
SEQUENCE:3
DTSTAMP:20260424T152716Z
URL:https://business.capeannchamber.com/events/details/community-pickleball-night-at-the-cape-ann-ymca-04-21-2025-36542
END:VEVENT

END:VCALENDAR
