BEGIN:VCALENDAR
VERSION:2.0
PRODID:-//ChamberMaster//Event Calendar 2.0//EN
METHOD:PUBLISH
X-PUBLISHED-TTL:P3D
REFRESH-INTERVAL:P3D
CALSCALE:GREGORIAN
BEGIN:VEVENT
DTSTART:20201207T220000Z
DTEND:20201208T000000Z
X-MICROSOFT-CDO-ALLDAYEVENT:FALSE
SUMMARY:Community Headshot Event for Cape Ann Business
DESCRIPTION:It's time to look great on your website\, social media\, in your email signature and in print! We'll help you making an impression that combines a top professional modern look with a sense of friendliness and approachability\, and we'll make it a fun\, relaxed experience. Need to look like Serious Business but with a friendly touch? Step up your headshot with Boston Pro Headshots. \n\n\n\nBook your slot for only $95 on December 7 at the Magnolia Library (1 Lexington Ave\, Gloucester). Check out more details here.
X-ALT-DESC;FMTTYPE=text/html:<span style="background-color:rgb(250\, 250\, 250)\; color:rgb(66\, 66\, 66)\; font-family:arial\,helvetica\,sans-serif\; font-size:12px">It&rsquo\;s time to look great on your website\, social media\, in your email signature and in print! We&rsquo\;ll help you making an impression that combines a top professional modern look with a sense of friendliness and approachability\, and we&rsquo\;ll make it a fun\, relaxed experience. Need to look like Serious Business but with a friendly touch? Step up your headshot with&nbsp\;</span><a href="https://bostonproheadshots.com/" style="outline: 0px\; margin: 0px\; padding: 0px\; border: 0px\; font-size: 12px\; vertical-align: baseline\; text-decoration: none\; color: rgb(43\, 104\, 147)\; font-family: Arial\, Helvetica\, sans-serif\;">Boston Pro Headshots</a><span style="background-color:rgb(250\, 250\, 250)\; color:rgb(66\, 66\, 66)\; font-family:arial\,helvetica\,sans-serif\; font-size:12px">.&nbsp\;</span><br />\n<br />\n<span style="background-color:rgb(250\, 250\, 250)\; color:rgb(66\, 66\, 66)\; font-family:arial\,helvetica\,sans-serif\; font-size:12px">Book your slot for&nbsp\;</span><strong>only $95</strong><span style="background-color:rgb(250\, 250\, 250)\; color:rgb(66\, 66\, 66)\; font-family:arial\,helvetica\,sans-serif\; font-size:12px">&nbsp\;on&nbsp\;</span><strong>December 7 at the Magnolia Library</strong><span style="background-color:rgb(250\, 250\, 250)\; color:rgb(66\, 66\, 66)\; font-family:arial\,helvetica\,sans-serif\; font-size:12px">&nbsp\;(1 Lexington Ave\, Gloucester). Check out more details&nbsp\;</span><a href="https://bostonproheadshots.com/magnolia" style="outline: 0px\; margin: 0px\; padding: 0px\; border: 0px\; font-size: 12px\; vertical-align: baseline\; text-decoration: none\; color: rgb(43\, 104\, 147)\; font-family: Arial\, Helvetica\, sans-serif\;">here</a><span style="background-color:rgb(250\, 250\, 250)\; color:rgb(66\, 66\, 66)\; font-family:arial\,helvetica\,sans-serif\; font-size:12px">.&nbsp\;</span>
LOCATION:
UID:e.2981.20436
SEQUENCE:3
DTSTAMP:20260419T194901Z
URL:https://business.capeannchamber.com/events/details/community-headshot-event-for-cape-ann-business-20436
END:VEVENT

END:VCALENDAR
