BEGIN:VCALENDAR
VERSION:2.0
PRODID:-//ChamberMaster//Event Calendar 2.0//EN
METHOD:PUBLISH
X-PUBLISHED-TTL:P3D
REFRESH-INTERVAL:P3D
CALSCALE:GREGORIAN
BEGIN:VEVENT
DTSTART:20260118T170000Z
DTEND:20260118T174500Z
X-MICROSOFT-CDO-ALLDAYEVENT:FALSE
SUMMARY:Community Family Yoga at the YMCA
DESCRIPTION:Come explore yoga together! Have fun with movement and play as you become more aware of your body and breath. Participants will learn partner poses and breathing techniques that foster relaxation\, strength\, and flexibility. This registration is for non-members only. Existing YMCA members are not required to register\, and can view current and future family fitness offerings at www.northshoreymca.org/schedules. Participants under age 11 must be accompanied by an adult. FREE and open to the community. Register Here: https://tinyurl.com/3d69yxxn
X-ALT-DESC;FMTTYPE=text/html:<span style="color:rgb(66\, 66\, 66)\; font-family:-apple-system\,inter\,helvetica\,arial\,lucida grande\,sans-serif\; font-size:14px">Come explore yoga together! Have fun with movement and play as you become more aware of your body and breath. Participants will learn partner poses and breathing techniques that foster relaxation\, strength\, and flexibility. This registration is for non-members only. Existing YMCA members are not required to register\, and can view current and future family fitness offerings at www.northshoreymca.org/schedules. Participants under age 11 must be accompanied by an adult. FREE and open to the community. Register Here:&nbsp\;</span><span style="font-size:14px">https://tinyurl.com/3d69yxxn</span>
LOCATION:Glen T. Macleod Cape Ann YMCA 7 Gloucester Crossing Road Gloucester\, MA 01930
UID:e.2981.45908
SEQUENCE:3
DTSTAMP:20260425T151607Z
URL:https://business.capeannchamber.com/events/details/community-family-yoga-at-the-ymca-45908
END:VEVENT

END:VCALENDAR
