BEGIN:VCALENDAR
VERSION:2.0
PRODID:-//ChamberMaster//Event Calendar 2.0//EN
METHOD:PUBLISH
X-PUBLISHED-TTL:P3D
REFRESH-INTERVAL:P3D
CALSCALE:GREGORIAN
BEGIN:VEVENT
DTSTART:20250816T140000Z
DTEND:20250816T200000Z
X-MICROSOFT-CDO-ALLDAYEVENT:FALSE
SUMMARY:Come as You Art
DESCRIPTION:Saturday\, August 16\, 2025\n\n10:00 a.m.  4:00 p.m.\n\nCAM Green\n\n13 Poplar Street\, Gloucester\, MA\n\nFree and Open to the Public\n\nCelebrate the end of summer with a full day of artmaking! Try out a new technique\, find inspiration around the CAM Green campus\, and celebrate the process of creating a work of art. More information forthcoming   stay tuned! \n\n \n\nImage Credit: CAM Staff photo.
X-ALT-DESC;FMTTYPE=text/html:<p>Saturday\, August 16\, 2025<br />\n10:00 a.m. &mdash\;4:00 p.m.<br />\n<a href="https://www.capeannmuseum.org/visit/cam-green-campus/" style="box-sizing: border-box\; margin: 0px\; padding: 0px\; border-width: 0px 0px 1px\; border-top-style: initial\; border-right-style: initial\; border-bottom-style: solid\; border-left-style: initial\; border-color: rgb(211\, 211\, 211)\; border-image: initial\; font-variant: inherit\; font-weight: inherit\; font-stretch: inherit\; font-size: inherit\; line-height: inherit\; font-family: inherit\; font-optical-sizing: inherit\; font-size-adjust: inherit\; font-kerning: inherit\; font-feature-settings: inherit\; font-variation-settings: inherit\; vertical-align: baseline\; text-decoration-line: none\; outline: 0px\; max-width: 100%\; color: rgb(37\, 119\, 160)\; transition: color 0.2s\;">CAM Green</a><br />\n13 Poplar Street\, Gloucester\, MA<br />\n<em>Free and Open to the Public</em></p>\n\n<p>Celebrate the end of summer with a full day of artmaking! Try out a new technique\, find inspiration around the CAM Green campus\, and celebrate the process of creating a work of art. More information forthcoming &ndash\; stay tuned!&nbsp\;</p>\n\n<p>&nbsp\;</p>\n\n<p><em>Image Credit: CAM Staff photo.</em></p>\n
LOCATION:CAM Green 13 Poplar Street\, Gloucester\, MA
UID:e.2981.37404
SEQUENCE:3
DTSTAMP:20260424T235207Z
URL:https://business.capeannchamber.com/events/details/come-as-you-art-37404
END:VEVENT

END:VCALENDAR
