BEGIN:VCALENDAR
VERSION:2.0
PRODID:-//ChamberMaster//Event Calendar 2.0//EN
METHOD:PUBLISH
X-PUBLISHED-TTL:P3D
REFRESH-INTERVAL:P3D
CALSCALE:GREGORIAN
BEGIN:VEVENT
DTSTART:20251030T143000Z
DTEND:20251030T153000Z
X-MICROSOFT-CDO-ALLDAYEVENT:FALSE
SUMMARY:Coffee & Conversations: Augustus Bühler
DESCRIPTION:Thursday\, October 30\, 2025\n\n10:30 a.m.   11:30 a.m.\n\nCarlson Education Center\, CAM Green\n\n13 Poplar Street\, Gloucester\, MA\n\nCAM Members Free\, Non-Members $5\n\nRegistration required as space is limited\n\n\n\nJoin us for a deep dive into a single piece from the Collection with a CAM Docent\, Linda Mahajan. Begin with conversation\, a short presentation\, and complimentary coffee at the Carlson Center\, then move to the James Center to view the original. \n\n\n\nCome learn about Augustus B hler\, a pivotal figure in Gloucester's rich artistic heritage. Born in New York City to Prussian parents and trained in Boston and Paris\, B hler began summering in Gloucester in 1885 and eventually made it his permanent studio home. His evocative marine paintings\, especially those depicting the lives of North Atlantic fishermen\, captured both the heroism and quiet dignity of Gloucester's working waterfront. Best known for his iconic painting Man at the Wheel\, which inspired the city's famed Fisherman's Memorial\, B hler believed artists were historians of their time an ethos that shaped his deeply personal portrayals of the sea and its people. We'll explore how B hler's art helped define Gloucester's visual identity and continues to resonate with generations of viewers. \n\n\n\nThis program will repeat on November 6.\n\n\n\nImage Credit: Fisherman\, Augustus Waldeck Buhler\, c. 1895\, Oil on canvas Gift of Dorothy Buhler\, the artist's daughter\, 1980\, Accession #2202.3.
X-ALT-DESC;FMTTYPE=text/html:<p>Thursday\, October 30\, 2025<br />\n10:30 a.m. &ndash\; 11:30 a.m.<br />\nCarlson Education Center\, CAM Green<br />\n13 Poplar Street\, Gloucester\, MA<br />\nCAM Members Free\, Non-Members $5<br />\nRegistration required as space is limited<br />\n<br />\nJoin us for a deep dive into a single piece from the Collection with a CAM Docent\, Linda Mahajan. Begin with conversation\, a short presentation\, and complimentary coffee at the Carlson Center\, then move to the James Center to view the original.&nbsp\;<br />\n<br />\nCome learn about Augustus B&uuml\;hler\, a pivotal figure in Gloucester&rsquo\;s rich artistic heritage. Born in New York City to Prussian parents and trained in Boston and Paris\, B&uuml\;hler began summering in Gloucester in 1885 and eventually made it his permanent studio home. His evocative marine paintings\, especially those depicting the lives of North Atlantic fishermen\, captured both the heroism and quiet dignity of Gloucester&rsquo\;s working waterfront. Best known for his iconic painting Man at the Wheel\, which inspired the city&rsquo\;s famed Fisherman&rsquo\;s Memorial\, B&uuml\;hler believed artists were historians of their time&mdash\;an ethos that shaped his deeply personal portrayals of the sea and its people. We&rsquo\;ll explore how B&uuml\;hler&rsquo\;s art helped define Gloucester&rsquo\;s visual identity and continues to resonate with generations of viewers.&nbsp\;<br />\n<br />\nThis program will repeat on November 6.<br />\n<br />\nImage Credit: Fisherman\, Augustus Waldeck Buhler\, c. 1895\, Oil on canvas Gift of Dorothy Buhler\, the artist&rsquo\;s daughter\, 1980\, Accession #2202.3.</p>\n
LOCATION:Carlson Education Center\, CAM Green 13 Poplar Street\, Gloucester\, MA
UID:e.2981.45128
SEQUENCE:3
DTSTAMP:20260425T023156Z
URL:https://business.capeannchamber.com/events/details/coffee-conversations-augustus-b&#252;hler-45128
END:VEVENT

END:VCALENDAR
